{"text_format":"1","workbook":"xlsx","n_sheets":10,"sheets":["Setup","DrawPrep","Draw32","PrgPrep","Day1","Day2","MyProgram","DrawPoints","tmp","tmpRankings"],"not_rendered":{"charts":0,"images":0,"macros":1,"external_links":0,"defined_names":1,"comments":1,"pivot_tables":0},"unopened":[],"bounds":{"document_bytes":16777216,"sheet_cells":100000,"rows_first":2000,"rows_last":500,"rows_between":2000,"halvings":0,"cell_chars":16384,"cell_head_chars":4096},"cells_cut":0,"cells_raw":0,"read":"whole","date_system":"1900"}

{"sheet":"Setup","index":0,"n_rows":34,"n_cols":14,"rows_kept":34,"cut":false,"hidden":false,"merged":[[1,3,2,3],[4,3,7,3]]}
["ΤΟΥΡΝΟΥΑ 32άρι ταμπλό",null,null,"Θέσεις","seed",null,null,0,"seed","space pos","Index","Value"]
[null,null,null,"3-4",{"$f":"VALUE(LEFT(F2,1))","v":3},"3 4",null,{"$f":"IF(I2=\"-\",\"-\",IF(I2>0,H1+1,0))","v":1},{"$f":"IF(J2>0,VALUE(MID($A$32,1,J2-1)),\"-\")","v":1},{"$f":"IF(LEN($A$32)>1,FIND(\" \",$A$32,1),0)","v":2},1,1]
["Διοργανωτής: ","Η' ΕΝΩΣΗ",null,null,{"$f":"VALUE(RIGHT(F2,1))","v":4},null,null,2,{"$f":"IF(J3>0,VALUE(MID($A$32,J2+1,J3-J2-1)),\"-\")","v":2},{"$f":"IF(AND(J2>0,LEN($A$32)>J2+1),FIND(\" \",$A$32,J2+1),0)","v":4},2,2]
["Τίτλος Τουρνουά: ","3ο Ενωσιακό",null,"Θέσεις","seed",null,null,3,3,6,3,3]
["Συντομογραφία: ","Ε3",null,"5-8",{"$f":"TRIM(LEFT(F5,(FIND(\" \",F5,1)-1)))","v":"8"},"8 5 6 7",null,4,4,8,4,4]
["Έδρα αγώνων: ","Αττικός Ήλιος",null,null,{"$f":"TRIM(MID(F5,(FIND(\" \",F5,1)),FIND(\" \",F5,(FIND(\" \",F5,1)+1))-(FIND(\" \",F5,1))))","v":"5"},null,null,5,5,10,5,5]
["Κατηγορίες: ","Α14",null,null,{"$f":"TRIM(MID(F5, (FIND(\" \",F5,(FIND(\" \",F5,1)+1))+1), (FIND(\" \",F5,(FIND(\" \",F5,(FIND(\" \",F5,1)+1))+1)))-(FIND(\" \",F5,(FIND(\" \",F5,1)+1))+1)))","v":"6"},null,null,6,6,12,6,6]
["Έναρξη: ","4",null,null,{"$f":"TRIM(RIGHT(F5,LEN(F5)-(FIND(\" \",F5,(FIND(\" \",F5,(FIND(\" \",F5,1)+1))+1)))))","v":"7"},null,null,7,7,14,7,7]
["Λήξη: ","6 Μαι 2012",null,null,null,null,null,8,8,16,8,8]
["Επιδιατητής: ","Ντ.Πατσουράκου",null,null,null,null,null,9,29,19,9,29]
["Τηλέφωνο επιδ: ","6934 306004",null,null,null,null,null,10,{"$f":"IF(J11>0,VALUE(MID($A$32,J10+1,J11-J10-1)),\"-\")","v":17},22,10,17]
[null,null,null,null,null,null,null,{"$f":"IF(I12=\"-\",\"-\",IF(I12>0,H11+1,0))","v":11},30,25,11,30]
[null,null,null,null,null,null,null,12,10,28,12,10]
[null,null,null,null,null,null,null,13,11,31,13,11]
[null,null,null,null,null,null,null,14,18,34,14,18]
[null,null,null,null,null,null,null,15,24,37,15,24]
[null,{"$f":"\"(\"&32-COUNTIF(DrawPrep!C3:C34,\">0\")&\")\"","v":"(0)"},null,null,null,null,null,16,15,40,16,15]
["Πλήθος bye (0-15): ",0,null,null,null,null,null,17,13,43,17,13,null,"seeded players"]
["Αριθμός θέσεων seeded: ",8,null,null,null,null,null,18,12,46,18,12,null,{"$f":"IF(Setup!$B$19>0,LEFT(DrawPrep!D3,FIND(\" \",DrawPrep!D3)-1))","v":"ΤΣΙΤΣΙΠΑΣ"}]
[null,null,null,null,null,null,null,19,19,49,19,19,null,{"$f":"IF(Setup!$B$19>1,LEFT(DrawPrep!D4,FIND(\" \",DrawPrep!D4)-1))","v":"ΑΝΤΩΝΟΠΟΥΛΟΣ"}]
["All - Seeded - NoSeeded: ",{"$f":"CONCATENATE(32-$B$18,\" - \",$B$19,\" - \",32-$B$19-$B$18)","v":"32 - 8 - 24"},null,null,null,null,null,20,32,52,20,32,null,{"$f":"IF(Setup!$B$19>2,LEFT(DrawPrep!D5,FIND(\" \",DrawPrep!D5)-1))","v":"ΛΑΖΑΡΙΔΗΣ"}]
[null,null,null,null,null,null,null,21,20,55,21,20,null,{"$f":"IF(Setup!$B$19>3,LEFT(DrawPrep!D6,FIND(\" \",DrawPrep!D6)-1))","v":"ΤΣΙΡΑΝΙΔΗΣ"}]
[null,null,null,null,null,null,null,22,22,58,22,22,null,{"$f":"IF(Setup!$B$19>4,LEFT(DrawPrep!D7,FIND(\" \",DrawPrep!D7)-1))","v":"ΗΛΙΟΠΟΥΛΟΣ"}]
[null,null,null,null,null,null,null,23,14,61,23,14,null,{"$f":"IF(Setup!$B$19>5,LEFT(DrawPrep!D8,FIND(\" \",DrawPrep!D8)-1))","v":"ΚΑΠΙΡΗΣ"}]
[null,null,null,null,null,null,null,24,21,64,24,21,null,{"$f":"IF(Setup!$B$19>6,LEFT(DrawPrep!D9,FIND(\" \",DrawPrep!D9)-1))","v":"ΚΟΝΤΟΠΟΥΛΟΣ"}]
["=RandUniq(3;4;2)",null,null,null,null,null,null,25,28,67,25,28,null,{"$f":"IF(Setup!$B$19>7,LEFT(DrawPrep!D10,FIND(\" \",DrawPrep!D10)-1))","v":"ΑΝΔΡΩΝΗΣ"}]
["=RandUniq(5;8;4)",null,null,null,null,null,null,26,16,70,26,16]
[null,null,null,null,null,null,null,27,31,73,27,31]
["=CONCATENATE(LEFT($A$34;$B$18*2);LEFT($A$33;$B$19*2);RandUniq($B$19+1;32-$B$18;32-$B$19-$B$18);\" \")",null,null,null,null,null," ",28,23,76,28,23]
[null,null,null,null,null,null,null,29,26,79,29,26]
[null,null," ",null,null,null,null,30,25,82,30,25]
["1 2 3 4 5 6 7 8 29 17 30 10 11 18 24 15 13 12 19 32 20 22 14 21 28 16 31 23 26 25 9 27 ",null,null,null,null,null,null,31,9,84,31,9]
["1 2 3 4 5 6 7 8 ",null,null,null,null,null,null,32,27,87,32,27]
["0 0 0 0 0 0 0 0 0 0 0 0 0 0 0 0 0 0 0 0 0 0 0 0 0 0 0 0 0 0 0 0 0 0 0 0 0 0 0 0  "]

{"sheet":"DrawPrep","index":1,"n_rows":43,"n_cols":10,"rows_kept":43,"cut":false,"hidden":false,"merged":[[0,7,0,8],[36,1,36,3]]}
[null,{"$f":"Setup!B3 & \", \" & Setup!B4 & \", \" & Setup!B6 & \", \" & Setup!B8 & \"-\" & Setup!B9 & \" (\" & Setup!B7 & \")\"","v":"Η' ΕΝΩΣΗ, 3ο Ενωσιακό, Αττικός Ήλιος, 4-6 Μαι 2012 (Α14)"},null,null,null,null,null,{"$f":"Setup!B10","v":"Ντ.Πατσουράκου"}]
["α/α","από","Α.Μ.","Ονοματεπώνυμο","points","Έτος","Σύλλογος","Τηλέφωνο","Υπογραφή αθλητή","SortPts"]
[1,null,25438,"ΤΣΙΤΣΙΠΑΣ ΣΤΕΦΑΝΟΣ",190,1998,"Ο.Α.ΓΛΥΦΑΔΑΣ",null,null,{"$f":"IF(D3>\" \",IF(E3>=0,E3+tmp!G6,tmp!G6),0)","v":190.02321776955924}]
[2,null,23775,"ΑΝΤΩΝΟΠΟΥΛΟΣ ΧΡΗΣΤΟΣ",180,1998,"Ο.Α.ΚΕΡΑΤΣΙΝΙΟΥ",null,null,{"$f":"IF(D4>\" \",IF(E4>=0,E4+tmp!G30,tmp!G30),0)","v":180.01149720017813}]
[3,null,25875,"ΛΑΖΑΡΙΔΗΣ ΚΩΝΣΤΑΝΤΙΝΟΣ",160,1998,"Ε.Σ.Ο.ΕΠΙΚΟΥΡΟΣ ΠΟΛΙΧΝΗΣ",null,null,{"$f":"IF(D5>\" \",IF(E5>=0,E5+tmp!G28,tmp!G28),0)","v":160.0232090901757}]
[4,null,23517,"ΤΣΙΡΑΝΙΔΗΣ ΕΥΣΤΑΘΙΟΣ",140,1998,"Ο.Α.ΤΟΥΜΠΑΣ",null,null,{"$f":"IF(D6>\" \",IF(E6>=0,E6+tmp!G26,tmp!G26),0)","v":140.02271747010604}]
[5,null,24845,"ΗΛΙΟΠΟΥΛΟΣ ΒΑΣΙΛΗΣ",140,1998,"Α.Ο.Α.ΦΙΛΟΘΕΗΣ",null,null,{"$f":"IF(D7>\" \",IF(E7>=0,E7+tmp!G12,tmp!G12),0)","v":140.00597110584525}]
[6,null,25297,"ΚΑΠΙΡΗΣ ΣΤΑΜΑΤΗΣ",61,1999,"Α.Ο.Α.ΦΙΛΟΘΕΗΣ",null,null,{"$f":"IF(D8>\" \",IF(E8>=0,E8+tmp!G10,tmp!G10),0)","v":61.037856303967295}]
[7,null,22866,"ΚΟΝΤΟΠΟΥΛΟΣ ΘΕΟΦΑΝΗΣ",60,1998,"Ο.Α.ΚΟΡΙΝΘΟΥ",null,null,{"$f":"IF(D9>\" \",IF(E9>=0,E9+tmp!G9,tmp!G9),0)","v":60.01850287225674}]
[8,null,26190,"ΑΝΔΡΩΝΗΣ ΙΩΑΝΝΗΣ",60,1999,"Ο.Α.ΑΓΙΑΣ ΠΑΡΑΣΚΕΥΗΣ",null,null,{"$f":"IF(D10>\" \",IF(E10>=0,E10+tmp!G23,tmp!G23),0)","v":60.006539691076917}]
[9,null,25296,"ΣΠΑΘΗΣ ΜΑΡΙΝΟΣ",60,1998,"Α.Ο.Α.ΗΛΙΟΥΠΟΛΗΣ",null,null,{"$f":"IF(D11>\" \",IF(E11>=0,E11+tmp!G18,tmp!G18),0)","v":60.000036398581607}]
[10,null,24516,"ΒΟΪΝΕΑ ΑΛΕΞΑΝΔΡΟΣ",58,1998,"Ο.Α.ΒΟΥΛΙΑΓΜΕΝΗΣ ΜΙΚΡΟΙ ΑΣΣΟΙ",null,null,{"$f":"IF(D12>\" \",IF(E12>=0,E12+tmp!G33,tmp!G33),0)","v":58.036982844399034}]
[11,null,26317,"ΚΩΣΤΑΡΑΣ ΠΑΝΑΓΙΩΤΗΣ",58,1999,"Ο.Α.ΠΕΤΡΟΥΠΟΛΗΣ",null,null,{"$f":"IF(D13>\" \",IF(E13>=0,E13+tmp!G25,tmp!G25),0)","v":58.004504163712149}]
[12,null,26297,"ΑΓΙΟΥΣ ΓΕΩΡΓΙΟΣ",56,1999,"ΚΕΡΚΥΡΑΪΚΗ Λ.Τ.",null,null,{"$f":"IF(D14>\" \",IF(E14>=0,E14+tmp!G5,tmp!G5),0)","v":56.038712929443335}]
[13,null,23040,"ΚΑΤΣΑΛΗΣ ΚΩΝΣΤΑΝΤΙΝΟΣ",55,1998,"Α.Σ.Α.ΛΑΡΙΣΑΣ",null,null,{"$f":"IF(D15>\" \",IF(E15>=0,E15+tmp!G24,tmp!G24),0)","v":55.008751234266654}]
[14,null,30054,"ΣΑΚΕΛΛΑΡΙΔΗΣ ΜΙΧΑΛΗΣ",53,2001,"Ο.Α.ΑΓΙΑΣ ΠΑΡΑΣΚΕΥΗΣ",null,null,{"$f":"IF(D16>\" \",IF(E16>=0,E16+tmp!G19,tmp!G19),0)","v":53.029312704000922}]
[15,null,28396,"ΛΑΜΠΡΟΠΟΥΛΟΣ ΙΟΒΑΝ-ΑΛΕΞΑΝΤΕΡ",49,2000,"Ο.Α.ΒΟΥΛΙΑΓΜΕΝΗΣ ΜΙΚΡΟΙ ΑΣΣΟΙ",null,null,{"$f":"IF(D17>\" \",IF(E17>=0,E17+tmp!G21,tmp!G21),0)","v":49.028863288859789}]
[16,null,30186,"ΠΙΤΣΙΝΗΣ ΔΗΜΗΤΡΙΟΣ",48,1999,"Ο.Α.ΧΑΛΚΙΔΑΣ",null,null,{"$f":"IF(D18>\" \",IF(E18>=0,E18+tmp!G32,tmp!G32),0)","v":48.029276407447007}]
[17,null,26478,"ΚΗΠΟΥΡΟΣ ΣΤΑΥΡΟΣ",46,1998,"Ο.Α.ΧΑΝΙΩΝ",null,null,{"$f":"IF(D19>\" \",IF(E19>=0,E19+tmp!G16,tmp!G16),0)","v":46.042987857657607}]
[18,null,26389,"ΒΑΡΔΑΚΗΣ ΒΑΣΙΛΕΙΟΣ",46,1999,"ΑΚΑΔ.ΑΝΤΙΣΦ.ΙΩΑΝΝΙΝΩΝ",null,null,{"$f":"IF(D20>\" \",IF(E20>=0,E20+tmp!G15,tmp!G15),0)","v":46.019711008413132}]
[19,null,24511,"ΙΩΑΝΝΙΔΗΣ ΝΙΚΟΛΑΟΣ",46,1998,"Α.Ο.Α.ΦΙΛΟΘΕΗΣ",null,null,{"$f":"IF(D21>\" \",IF(E21>=0,E21+tmp!G29,tmp!G29),0)","v":46.018819059644649}]
[20,null,27180,"ΣΤΑΥΡΑΚΑΣ ΜΙΝΩΣ-ΚΙΜΩΝ",43,1998,"Α.Ο.Α.ΦΙΛΟΘΕΗΣ",null,null,{"$f":"IF(D22>\" \",IF(E22>=0,E22+tmp!G17,tmp!G17),0)","v":43.033128361480017}]
[21,null,27583,"ΠΑΧΑΚΗΣ ΝΙΚΟΛΑΟΣ-ΑΝΔΡΕΑΣ",41,1999,"Α.Ο.Α.ΗΛΙΟΥΠΟΛΗΣ",null,null,{"$f":"IF(D23>\" \",IF(E23>=0,E23+tmp!G7,tmp!G7),0)","v":41.031148422079461}]
[22,null,28144,"ΚΑΛΑΜΠΑΚΑΣ ΑΝΑΣΤΑΣΙΟΣ",41,1998,"Α.Σ.Α.ΛΑΡΙΣΑΣ",null,null,{"$f":"IF(D24>\" \",IF(E24>=0,E24+tmp!G31,tmp!G31),0)","v":41.020254108771852}]
[23,null,26914,"ΒΡΑΝΑΣ ΘΕΜΗΣ",41,1998,"Α.Ο.Α.ΦΙΛΟΘΕΗΣ",null,null,{"$f":"IF(D25>\" \",IF(E25>=0,E25+tmp!G2,tmp!G2),0)","v":41.016215289147915}]
[24,null,28285,"ΠΗΛΙΟΥΝΗΣ ΜΙΧΑΗΛ",41,1999,"Ο.Α.ΒΟΥΛΙΑΓΜΕΝΗΣ ΜΙΚΡΟΙ ΑΣΣΟΙ",null,null,{"$f":"IF(D26>\" \",IF(E26>=0,E26+tmp!G11,tmp!G11),0)","v":41.010351623053261}]
[25,null,24115,"ΝΤΑΝΤΙΝΗΣ ΑΓΓΕΛΟΣ",39,1999,"Α.Ε.Τ.ΝΙΚΗ ΠΑΤΡΩΝ",null,null,{"$f":"IF(D27>\" \",IF(E27>=0,E27+tmp!G4,tmp!G4),0)","v":39.025913243203291}]
[26,null,29274,"ΣΗΜΑΙΟΦΟΡΙΔΗΣ ΧΑΡΑΛΑΜΠΟΣ",38,1999,"ΠΕΥΚΗ-Γ.ΚΑΛΟΒΕΛΩΝΗΣ",null,null,{"$f":"IF(D28>\" \",IF(E28>=0,E28+tmp!G22,tmp!G22),0)","v":38.044348162347312}]
[27,null,26385,"ΒΟΥΛΓΑΡΑΚΗΣ ΕΛΕΥΘΕΡΙΟΣ",36,1998,"Ο.Α.ΣΟΥΔΑΣ",null,null,{"$f":"IF(D29>\" \",IF(E29>=0,E29+tmp!G27,tmp!G27),0)","v":36.025563353637189}]
[28,null,22876,"ΓΕΡΟΥΚΗΣ ΒΑΣΙΛΕΙΟΣ",34,1998,"Ο.Α.ΝΙΚΑΙΑ ΛΑΡΙΣΑΣ",null,null,{"$f":"IF(D30>\" \",IF(E30>=0,E30+tmp!G14,tmp!G14),0)","v":34.017506541044348}]
[29,null,27398,"ΚΟΤΣΑΡΙΝΗΣ ΒΑΣΙΛΕΙΟΣ",31.8,1999,"Α.Γ.Ο.ΦΙΛΙΠΠΙΑΔΑΣ",null,null,{"$f":"IF(D31>\" \",IF(E31>=0,E31+tmp!G8,tmp!G8),0)","v":31.844894678391245}]
[30,null,27874,"ΒΛΑΧΟΝΙΚΟΛΟΣ ΠΑΝΑΓΙΩΤΗΣ",31,1998,"ΡΟΔΙΑΚΟΣ Ο.Α.",null,null,{"$f":"IF(D32>\" \",IF(E32>=0,E32+tmp!G20,tmp!G20),0)","v":31.033994001815259}]
[31,null,22656,"ΤΖΩΡΤΖΟΣ ΣΤΑΥΡΟΣ",31,1999,"Α.Ο.Α.ΣΤΑΥΡΟΥΠΟΛΗΣ ΙΦΙΤΟΣ",null,null,{"$f":"IF(D33>\" \",IF(E33>=0,E33+tmp!G13,tmp!G13),0)","v":31.013395595752169}]
[32,null,27879,"ΚΙΣΣΑΣ ΧΡΗΣΤΟΣ-ΕΥΑΓΓΕΛΟΣ",29,1998,"Α.Ο.ΣΙΚΥΩΝΟΣ ΚΙΑΤΟΥ",null,null,{"$f":"IF(D34>\" \",IF(E34>=0,E34+tmp!G3,tmp!G3),0)","v":29.029054446509793}]
[]
[]
[null,"Walk over",null,null,"med"]
[null,"α/α","Α.Μ.","Ονοματεπώνυμο","Ν ή Ο"]
[null,1]
[null,2]
[null,3]
[null,4]
[null,5]

{"sheet":"Draw32","index":2,"n_rows":48,"n_cols":20,"rows_kept":48,"cut":false,"hidden":false,"merged":[[42,17,42,19],[0,0,0,17],[2,9,2,11]]}
[{"$f":"Setup!B3 & \", \" & Setup!B4 & \", \" & Setup!B6 & \", \" & Setup!B8 & \"-\" & Setup!B9","v":"Η' ΕΝΩΣΗ, 3ο Ενωσιακό, Αττικός Ήλιος, 4-6 Μαι 2012"},null,null,null,null,null,null,null,null,null,null,null,null,null,null,null,null,null,null,{"$f":"Setup!B7","v":"Α14"}]
[null,{"$f":"Setup!B18","v":0}]
[null,null,null,null,null,null,null,null,null,32,null,null,null,16,null,8,null,4,null,"2 & w"]
["α/α",null,"ByeOrder","ByeSum","ByeCnt","από","seed","Pts","Α.Μ.","Ονοματεπώνυμο","επώνυμο","Σύλλογος"]
[1,1,null,null,0,{"$f":"IF(NOT($G5=\"-\"),VLOOKUP($G5,DrawPrep!$A$3:$G$34,2,FALSE),\"\")","v":0},{"$f":"VLOOKUP($B5,Setup!$K$2:$L$33,2,FALSE)","v":1},{"$f":"IF($G5>0,VLOOKUP($G5,DrawPrep!$A$3:$G$34,5,FALSE),0)","v":190},{"$f":"IF($G5>0,VLOOKUP($G5,DrawPrep!$A$3:$G$34,3,FALSE),0)","v":25438},{"$f":"IF($I5>0,VLOOKUP($I5,DrawPrep!$C$3:$G$34,2,FALSE),\"bye\")","v":"ΤΣΙΤΣΙΠΑΣ ΣΤΕΦΑΝΟΣ"},{"$f":"IF($I5>0,LEFT(J5,FIND(\" \",J5)-1),\"\")","v":"ΤΣΙΤΣΙΠΑΣ"},{"$f":"IF($I5>0,VLOOKUP($I5,DrawPrep!$C$3:$G$34,5,FALSE),\"\")","v":"Ο.Α.ΓΛΥΦΑΔΑΣ"},1,{"$f":"UPPER(IF($A$2=\"R\",IF(OR(M5=1,M5=\"a\"),I5,IF(OR(M5=2,M5=\"b\"),I6,\"\")),IF(OR(M5=1,M5=\"1\"),K5,IF(OR(M5=2,M5=\"b\"),K6,\"\"))))","v":"ΤΣΙΤΣΙΠΑΣ"}]
[2,{"$f":"1-D6+8","v":9},{"$f":"B5","v":1},{"$f":"E6","v":0},{"$f":"IF($B$2>=C6,1,0)","v":0},{"$f":"IF(NOT($G6=\"-\"),VLOOKUP($G6,DrawPrep!$A$3:$G$34,2,FALSE),\"\")","v":0},{"$f":"IF($B$2>=C6,\"-\",VLOOKUP($B6,Setup!$K$2:$L$33,2,FALSE))","v":29},{"$f":"IF(NOT($G6=\"-\"),VLOOKUP($G6,DrawPrep!$A$3:$G$34,5,FALSE),0)","v":31.8},{"$f":"IF(NOT($G6=\"-\"),VLOOKUP($G6,DrawPrep!$A$3:$G$34,3,FALSE),0)","v":27398},{"$f":"IF($I6>0,VLOOKUP($I6,DrawPrep!$C$3:$G$34,2,FALSE),\"bye\")","v":"ΚΟΤΣΑΡΙΝΗΣ ΒΑΣΙΛΕΙΟΣ"},{"$f":"IF($I6>0,LEFT(J6,FIND(\" \",J6)-1),\"\")","v":"ΚΟΤΣΑΡΙΝΗΣ"},{"$f":"IF($I6>0,VLOOKUP($I6,DrawPrep!$C$3:$G$34,5,FALSE),\"\")","v":"Α.Γ.Ο.ΦΙΛΙΠΠΙΑΔΑΣ"},null,null,1,{"$f":"UPPER(IF($A$2=\"R\",IF(OR(O6=1,O6=\"a\"),N5,IF(OR(O6=2,O6=\"b\"),N7,\"\")),IF(OR(O6=1,O6=\"a\"),N5,IF(OR(O6=2,O6=\"b\"),N7,\"\"))))","v":"ΤΣΙΤΣΙΠΑΣ"}]
[3,{"$f":"2-D7+8","v":10},null,{"$f":"D6+E7","v":0},0,{"$f":"IF(NOT($G7=\"-\"),VLOOKUP($G7,DrawPrep!$A$3:$G$34,2,FALSE),\"\")","v":0},{"$f":"VLOOKUP($B7,Setup!$K$2:$L$33,2,FALSE)","v":17},{"$f":"IF($G7>0,VLOOKUP($G7,DrawPrep!$A$3:$G$34,5,FALSE),0)","v":46},{"$f":"IF($G7>0,VLOOKUP($G7,DrawPrep!$A$3:$G$34,3,FALSE),0)","v":26478},{"$f":"IF($I7>0,VLOOKUP($I7,DrawPrep!$C$3:$G$34,2,FALSE),\"bye\")","v":"ΚΗΠΟΥΡΟΣ ΣΤΑΥΡΟΣ"},{"$f":"IF($I7>0,LEFT(J7,FIND(\" \",J7)-1),\"\")","v":"ΚΗΠΟΥΡΟΣ"},{"$f":"IF($I7>0,VLOOKUP($I7,DrawPrep!$C$3:$G$34,5,FALSE),\"\")","v":"Ο.Α.ΧΑΝΙΩΝ"},2,{"$f":"UPPER(IF($A$2=\"R\",IF(OR(M7=1,M7=\"a\"),I7,IF(OR(M7=2,M7=\"b\"),I8,\"\")),IF(OR(M7=1,M7=\"a\"),K7,IF(OR(M7=2,M7=\"b\"),K8,\"\"))))","v":"ΒΛΑΧΟΝΙΚΟΛΟΣ"}]
[4,{"$f":"3-D8+8","v":11},15,{"$f":"D7+E8","v":0},{"$f":"IF($B$2>=C8,1,0)","v":0},{"$f":"IF(NOT($G8=\"-\"),VLOOKUP($G8,DrawPrep!$A$3:$G$34,2,FALSE),\"\")","v":0},{"$f":"IF($B$2>=C8,\"-\",VLOOKUP($B8,Setup!$K$2:$L$33,2,FALSE))","v":30},{"$f":"IF(NOT($G8=\"-\"),VLOOKUP($G8,DrawPrep!$A$3:$G$34,5,FALSE),0)","v":31},{"$f":"IF(NOT($G8=\"-\"),VLOOKUP($G8,DrawPrep!$A$3:$G$34,3,FALSE),0)","v":27874},{"$f":"IF($I8>0,VLOOKUP($I8,DrawPrep!$C$3:$G$34,2,FALSE),\"bye\")","v":"ΒΛΑΧΟΝΙΚΟΛΟΣ ΠΑΝΑΓΙΩΤΗΣ"},"ΒΛΑΧΟΝΙΚΟΛΟΣ",{"$f":"IF($I8>0,VLOOKUP($I8,DrawPrep!$C$3:$G$34,5,FALSE),\"\")","v":"ΡΟΔΙΑΚΟΣ Ο.Α."},null,null,null,null,1,{"$f":"UPPER(IF($A$2=\"R\",IF(OR(Q8=1,Q8=\"a\"),P6,IF(OR(Q8=2,Q8=\"b\"),P10,\"\")),IF(OR(Q8=1,Q8=\"a\"),P6,IF(OR(Q8=2,Q8=\"b\"),P10,\"\"))))","v":"ΤΣΙΤΣΙΠΑΣ"}]
[5,{"$f":"4-D9+8","v":12},null,0,0,{"$f":"IF(NOT($G9=\"-\"),VLOOKUP($G9,DrawPrep!$A$3:$G$34,2,FALSE),\"\")","v":0},{"$f":"VLOOKUP($B9,Setup!$K$2:$L$33,2,FALSE)","v":10},{"$f":"IF($G9>0,VLOOKUP($G9,DrawPrep!$A$3:$G$34,5,FALSE),0)","v":58},{"$f":"IF($G9>0,VLOOKUP($G9,DrawPrep!$A$3:$G$34,3,FALSE),0)","v":24516},{"$f":"IF($I9>0,VLOOKUP($I9,DrawPrep!$C$3:$G$34,2,FALSE),\"bye\")","v":"ΒΟΪΝΕΑ ΑΛΕΞΑΝΔΡΟΣ"},"ΒΟΪΝΕΑ",{"$f":"IF($I9>0,VLOOKUP($I9,DrawPrep!$C$3:$G$34,5,FALSE),\"\")","v":"Ο.Α.ΒΟΥΛΙΑΓΜΕΝΗΣ ΜΙΚΡΟΙ ΑΣΣΟΙ"},1,{"$f":"UPPER(IF($A$2=\"R\",IF(OR(M9=1,M9=\"a\"),I9,IF(OR(M9=2,M9=\"b\"),I10,\"\")),IF(OR(M9=1,M9=\"a\"),K9,IF(OR(M9=2,M9=\"b\"),K10,\"\"))))","v":"ΒΟΪΝΕΑ"}]
[6,{"$f":"5-D10+8","v":13},9,0,{"$f":"IF($B$2>=C10,1,0)","v":0},{"$f":"IF(NOT($G10=\"-\"),VLOOKUP($G10,DrawPrep!$A$3:$G$34,2,FALSE),\"\")","v":0},{"$f":"IF($B$2>=C10,\"-\",VLOOKUP($B10,Setup!$K$2:$L$33,2,FALSE))","v":11},{"$f":"IF(NOT($G10=\"-\"),VLOOKUP($G10,DrawPrep!$A$3:$G$34,5,FALSE),0)","v":58},{"$f":"IF(NOT($G10=\"-\"),VLOOKUP($G10,DrawPrep!$A$3:$G$34,3,FALSE),0)","v":26317},{"$f":"IF($I10>0,VLOOKUP($I10,DrawPrep!$C$3:$G$34,2,FALSE),\"bye\")","v":"ΚΩΣΤΑΡΑΣ ΠΑΝΑΓΙΩΤΗΣ"},"ΚΩΣΤΑΡΑΣ",{"$f":"IF($I10>0,VLOOKUP($I10,DrawPrep!$C$3:$G$34,5,FALSE),\"\")","v":"Ο.Α.ΠΕΤΡΟΥΠΟΛΗΣ"},null,null,2,{"$f":"UPPER(IF($A$2=\"R\",IF(OR(O10=1,O10=\"a\"),N9,IF(OR(O10=2,O10=\"b\"),N11,\"\")),IF(OR(O10=1,O10=\"a\"),N9,IF(OR(O10=2,O10=\"b\"),N11,\"\"))))","v":"ΑΝΔΡΩΝΗΣ"}]
[7,{"$f":"6-D11+8","v":14},{"$f":"B12","v":8},0,{"$f":"IF($B$2>=C11,1,0)","v":0},{"$f":"IF(NOT($G11=\"-\"),VLOOKUP($G11,DrawPrep!$A$3:$G$34,2,FALSE),\"\")","v":0},{"$f":"IF($B$2>=C11,\"-\",VLOOKUP($B11,Setup!$K$2:$L$33,2,FALSE))","v":18},{"$f":"IF(NOT($G11=\"-\"),VLOOKUP($G11,DrawPrep!$A$3:$G$34,5,FALSE),0)","v":46},{"$f":"IF(NOT($G11=\"-\"),VLOOKUP($G11,DrawPrep!$A$3:$G$34,3,FALSE),0)","v":26389},{"$f":"IF($I11>0,VLOOKUP($I11,DrawPrep!$C$3:$G$34,2,FALSE),\"bye\")","v":"ΒΑΡΔΑΚΗΣ ΒΑΣΙΛΕΙΟΣ"},"ΒΑΡΔΑΚΗΣ",{"$f":"IF($I11>0,VLOOKUP($I11,DrawPrep!$C$3:$G$34,5,FALSE),\"\")","v":"ΑΚΑΔ.ΑΝΤΙΣΦ.ΙΩΑΝΝΙΝΩΝ"},2,{"$f":"UPPER(IF($A$2=\"R\",IF(OR(M11=1,M11=\"a\"),I11,IF(OR(M11=2,M11=\"b\"),I12,\"\")),IF(OR(M11=1,M11=\"a\"),K11,IF(OR(M11=2,M11=\"b\"),K12,\"\"))))","v":"ΑΝΔΡΩΝΗΣ"}]
[8,{"$f":"VALUE(Setup!E5)","v":8},null,0,0,{"$f":"IF(NOT($G12=\"-\"),VLOOKUP($G12,DrawPrep!$A$3:$G$34,2,FALSE),\"\")","v":0},{"$f":"VLOOKUP($B12,Setup!$K$2:$L$33,2,FALSE)","v":8},{"$f":"IF($G12>0,VLOOKUP($G12,DrawPrep!$A$3:$G$34,5,FALSE),0)","v":60},{"$f":"IF($G12>0,VLOOKUP($G12,DrawPrep!$A$3:$G$34,3,FALSE),0)","v":26190},{"$f":"IF($I12>0,VLOOKUP($I12,DrawPrep!$C$3:$G$34,2,FALSE),\"bye\")","v":"ΑΝΔΡΩΝΗΣ ΙΩΑΝΝΗΣ"},"ΑΝΔΡΩΝΗΣ",{"$f":"IF($I12>0,VLOOKUP($I12,DrawPrep!$C$3:$G$34,5,FALSE),\"\")","v":"Ο.Α.ΑΓΙΑΣ ΠΑΡΑΣΚΕΥΗΣ"},null,null,null,null,null,null,1,{"$f":"UPPER(IF($A$2=\"R\",IF(OR(S12=1,S12=\"a\"),R8,IF(OR(S12=2,S12=\"b\"),R16,\"\")),IF(OR(S12=1,S12=\"a\"),R8,IF(OR(S12=2,S12=\"b\"),R16,\"\"))))","v":"ΤΣΙΤΣΙΠΑΣ"}]
[9,{"$f":"VALUE(Setup!E2)","v":3},null,0,0,{"$f":"IF(NOT($G13=\"-\"),VLOOKUP($G13,DrawPrep!$A$3:$G$34,2,FALSE),\"\")","v":0},{"$f":"VLOOKUP($B13,Setup!$K$2:$L$33,2,FALSE)","v":3},{"$f":"IF($G13>0,VLOOKUP($G13,DrawPrep!$A$3:$G$34,5,FALSE),0)","v":160},{"$f":"IF($G13>0,VLOOKUP($G13,DrawPrep!$A$3:$G$34,3,FALSE),0)","v":25875},{"$f":"IF($I13>0,VLOOKUP($I13,DrawPrep!$C$3:$G$34,2,FALSE),\"bye\")","v":"ΛΑΖΑΡΙΔΗΣ ΚΩΝΣΤΑΝΤΙΝΟΣ"},"ΛΑΖΑΡΙΔΗΣ",{"$f":"IF($I13>0,VLOOKUP($I13,DrawPrep!$C$3:$G$34,5,FALSE),\"\")","v":"Ε.Σ.Ο.ΕΠΙΚΟΥΡΟΣ ΠΟΛΙΧΝΗΣ"},1,{"$f":"UPPER(IF($A$2=\"R\",IF(OR(M13=1,M13=\"a\"),I13,IF(OR(M13=2,M13=\"b\"),I14,\"\")),IF(OR(M13=1,M13=\"a\"),K13,IF(OR(M13=2,M13=\"b\"),K14,\"\"))))","v":"ΛΑΖΑΡΙΔΗΣ"}]
[10,{"$f":"7-D14+8","v":15},{"$f":"B13","v":3},0,{"$f":"IF($B$2>=C14,1,0)","v":0},{"$f":"IF(NOT($G14=\"-\"),VLOOKUP($G14,DrawPrep!$A$3:$G$34,2,FALSE),\"\")","v":0},{"$f":"IF($B$2>=C14,\"-\",VLOOKUP($B14,Setup!$K$2:$L$33,2,FALSE))","v":24},{"$f":"IF(NOT($G14=\"-\"),VLOOKUP($G14,DrawPrep!$A$3:$G$34,5,FALSE),0)","v":41},{"$f":"IF(NOT($G14=\"-\"),VLOOKUP($G14,DrawPrep!$A$3:$G$34,3,FALSE),0)","v":28285},{"$f":"IF($I14>0,VLOOKUP($I14,DrawPrep!$C$3:$G$34,2,FALSE),\"bye\")","v":"ΠΗΛΙΟΥΝΗΣ ΜΙΧΑΗΛ"},"ΠΗΛΙΟΥΝΗΣ",{"$f":"IF($I14>0,VLOOKUP($I14,DrawPrep!$C$3:$G$34,5,FALSE),\"\")","v":"Ο.Α.ΒΟΥΛΙΑΓΜΕΝΗΣ ΜΙΚΡΟΙ ΑΣΣΟΙ"},null,null,1,{"$f":"UPPER(IF($A$2=\"R\",IF(OR(O14=1,O14=\"a\"),N13,IF(OR(O14=2,O14=\"b\"),N15,\"\")),IF(OR(O14=1,O14=\"a\"),N13,IF(OR(O14=2,O14=\"b\"),N15,\"\"))))","v":"ΛΑΖΑΡΙΔΗΣ"}]
[11,{"$f":"8-D15+8","v":16},null,0,0,{"$f":"IF(NOT($G15=\"-\"),VLOOKUP($G15,DrawPrep!$A$3:$G$34,2,FALSE),\"\")","v":0},{"$f":"VLOOKUP($B15,Setup!$K$2:$L$33,2,FALSE)","v":15},{"$f":"IF($G15>0,VLOOKUP($G15,DrawPrep!$A$3:$G$34,5,FALSE),0)","v":49},{"$f":"IF($G15>0,VLOOKUP($G15,DrawPrep!$A$3:$G$34,3,FALSE),0)","v":28396},{"$f":"IF($I15>0,VLOOKUP($I15,DrawPrep!$C$3:$G$34,2,FALSE),\"bye\")","v":"ΛΑΜΠΡΟΠΟΥΛΟΣ ΙΟΒΑΝ-ΑΛΕΞΑΝΤΕΡ"},"ΛΑΜΠΡΟΠΟΥΛΟΣ",{"$f":"IF($I15>0,VLOOKUP($I15,DrawPrep!$C$3:$G$34,5,FALSE),\"\")","v":"Ο.Α.ΒΟΥΛΙΑΓΜΕΝΗΣ ΜΙΚΡΟΙ ΑΣΣΟΙ"},2,{"$f":"UPPER(IF($A$2=\"R\",IF(OR(M15=1,M15=\"a\"),I15,IF(OR(M15=2,M15=\"b\"),I16,\"\")),IF(OR(M15=1,M15=\"a\"),K15,IF(OR(M15=2,M15=\"b\"),K16,\"\"))))","v":"ΚΑΤΣΑΛΗΣ"}]
[12,{"$f":"9-D16+8","v":17},13,0,{"$f":"IF($B$2>=C16,1,0)","v":0},{"$f":"IF(NOT($G16=\"-\"),VLOOKUP($G16,DrawPrep!$A$3:$G$34,2,FALSE),\"\")","v":0},{"$f":"IF($B$2>=C16,\"-\",VLOOKUP($B16,Setup!$K$2:$L$33,2,FALSE))","v":13},{"$f":"IF(NOT($G16=\"-\"),VLOOKUP($G16,DrawPrep!$A$3:$G$34,5,FALSE),0)","v":55},{"$f":"IF(NOT($G16=\"-\"),VLOOKUP($G16,DrawPrep!$A$3:$G$34,3,FALSE),0)","v":23040},{"$f":"IF($I16>0,VLOOKUP($I16,DrawPrep!$C$3:$G$34,2,FALSE),\"bye\")","v":"ΚΑΤΣΑΛΗΣ ΚΩΝΣΤΑΝΤΙΝΟΣ"},"ΚΑΤΣΑΛΗΣ",{"$f":"IF($I16>0,VLOOKUP($I16,DrawPrep!$C$3:$G$34,5,FALSE),\"\")","v":"Α.Σ.Α.ΛΑΡΙΣΑΣ"},null,null,null,null,2,{"$f":"UPPER(IF($A$2=\"R\",IF(OR(Q16=1,Q16=\"a\"),P14,IF(OR(Q16=2,Q16=\"b\"),P18,\"\")),IF(OR(Q16=1,Q16=\"a\"),P14,IF(OR(Q16=2,Q16=\"b\"),P18,\"\"))))","v":"ΗΛΙΟΠΟΥΛΟΣ"}]
[13,{"$f":"10-D17+8","v":18},null,0,0,{"$f":"IF(NOT($G17=\"-\"),VLOOKUP($G17,DrawPrep!$A$3:$G$34,2,FALSE),\"\")","v":0},{"$f":"VLOOKUP($B17,Setup!$K$2:$L$33,2,FALSE)","v":12},{"$f":"IF($G17>0,VLOOKUP($G17,DrawPrep!$A$3:$G$34,5,FALSE),0)","v":56},{"$f":"IF($G17>0,VLOOKUP($G17,DrawPrep!$A$3:$G$34,3,FALSE),0)","v":26297},{"$f":"IF($I17>0,VLOOKUP($I17,DrawPrep!$C$3:$G$34,2,FALSE),\"bye\")","v":"ΑΓΙΟΥΣ ΓΕΩΡΓΙΟΣ"},"ΑΓΙΟΥΣ",{"$f":"IF($I17>0,VLOOKUP($I17,DrawPrep!$C$3:$G$34,5,FALSE),\"\")","v":"ΚΕΡΚΥΡΑΪΚΗ Λ.Τ."},1,{"$f":"UPPER(IF($A$2=\"R\",IF(OR(M17=1,M17=\"a\"),I17,IF(OR(M17=2,M17=\"b\"),I18,\"\")),IF(OR(M17=1,M17=\"a\"),K17,IF(OR(M17=2,M17=\"b\"),K18,\"\"))))","v":"ΑΓΙΟΥΣ"}]
[14,{"$f":"11-D18+8","v":19},11,0,{"$f":"IF($B$2>=C18,1,0)","v":0},{"$f":"IF(NOT($G18=\"-\"),VLOOKUP($G18,DrawPrep!$A$3:$G$34,2,FALSE),\"\")","v":0},{"$f":"IF($B$2>=C18,\"-\",VLOOKUP($B18,Setup!$K$2:$L$33,2,FALSE))","v":19},{"$f":"IF(NOT($G18=\"-\"),VLOOKUP($G18,DrawPrep!$A$3:$G$34,5,FALSE),0)","v":46},{"$f":"IF(NOT($G18=\"-\"),VLOOKUP($G18,DrawPrep!$A$3:$G$34,3,FALSE),0)","v":24511},{"$f":"IF($I18>0,VLOOKUP($I18,DrawPrep!$C$3:$G$34,2,FALSE),\"bye\")","v":"ΙΩΑΝΝΙΔΗΣ ΝΙΚΟΛΑΟΣ"},"ΙΩΑΝΝΙΔΗΣ",{"$f":"IF($I18>0,VLOOKUP($I18,DrawPrep!$C$3:$G$34,5,FALSE),\"\")","v":"Α.Ο.Α.ΦΙΛΟΘΕΗΣ"},null,null,2,{"$f":"UPPER(IF($A$2=\"R\",IF(OR(O18=1,O18=\"a\"),N17,IF(OR(O18=2,O18=\"b\"),N19,\"\")),IF(OR(O18=1,O18=\"a\"),N17,IF(OR(O18=2,O18=\"b\"),N19,\"\"))))","v":"ΗΛΙΟΠΟΥΛΟΣ"}]
[15,{"$f":"12-D19+8","v":20},{"$f":"B20","v":5},0,{"$f":"IF($B$2>=C19,1,0)","v":0},{"$f":"IF(NOT($G19=\"-\"),VLOOKUP($G19,DrawPrep!$A$3:$G$34,2,FALSE),\"\")","v":0},{"$f":"IF($B$2>=C19,\"-\",VLOOKUP($B19,Setup!$K$2:$L$33,2,FALSE))","v":32},{"$f":"IF(NOT($G19=\"-\"),VLOOKUP($G19,DrawPrep!$A$3:$G$34,5,FALSE),0)","v":29},{"$f":"IF(NOT($G19=\"-\"),VLOOKUP($G19,DrawPrep!$A$3:$G$34,3,FALSE),0)","v":27879},{"$f":"IF($I19>0,VLOOKUP($I19,DrawPrep!$C$3:$G$34,2,FALSE),\"bye\")","v":"ΚΙΣΣΑΣ ΧΡΗΣΤΟΣ-ΕΥΑΓΓΕΛΟΣ"},"ΚΙΣΣΑΣ",{"$f":"IF($I19>0,VLOOKUP($I19,DrawPrep!$C$3:$G$34,5,FALSE),\"\")","v":"Α.Ο.ΣΙΚΥΩΝΟΣ ΚΙΑΤΟΥ"},2,{"$f":"UPPER(IF($A$2=\"R\",IF(OR(M19=1,M19=\"a\"),I19,IF(OR(M19=2,M19=\"b\"),I20,\"\")),IF(OR(M19=1,M19=\"a\"),K19,IF(OR(M19=2,M19=\"b\"),K20,\"\"))))","v":"ΗΛΙΟΠΟΥΛΟΣ"}]
[16,{"$f":"VALUE(Setup!E6)","v":5},null,0,0,{"$f":"IF(NOT($G20=\"-\"),VLOOKUP($G20,DrawPrep!$A$3:$G$34,2,FALSE),\"\")","v":0},{"$f":"VLOOKUP($B20,Setup!$K$2:$L$33,2,FALSE)","v":5},{"$f":"IF($G20>0,VLOOKUP($G20,DrawPrep!$A$3:$G$34,5,FALSE),0)","v":140},{"$f":"IF($G20>0,VLOOKUP($G20,DrawPrep!$A$3:$G$34,3,FALSE),0)","v":24845},{"$f":"IF($I20>0,VLOOKUP($I20,DrawPrep!$C$3:$G$34,2,FALSE),\"bye\")","v":"ΗΛΙΟΠΟΥΛΟΣ ΒΑΣΙΛΗΣ"},"ΗΛΙΟΠΟΥΛΟΣ",{"$f":"IF($I20>0,VLOOKUP($I20,DrawPrep!$C$3:$G$34,5,FALSE),\"\")","v":"Α.Ο.Α.ΦΙΛΟΘΕΗΣ"},null,null,null,null,null,null,2,{"$f":"UPPER(IF($A$2=\"R\",IF(OR(S20=1,S20=\"a\"),T12,IF(OR(S20=2,S20=\"b\"),T28,\"\")),IF(OR(S20=1,S20=\"a\"),T12,IF(OR(S20=2,S20=\"b\"),T28,\"\"))))","v":"ΣΤΑΥΡΑΚΑΣ"}]
[17,{"$f":"VALUE(Setup!E7)","v":6},null,0,0,{"$f":"IF(NOT($G21=\"-\"),VLOOKUP($G21,DrawPrep!$A$3:$G$34,2,FALSE),\"\")","v":0},{"$f":"VLOOKUP($B21,Setup!$K$2:$L$33,2,FALSE)","v":6},{"$f":"IF($G21>0,VLOOKUP($G21,DrawPrep!$A$3:$G$34,5,FALSE),0)","v":61},{"$f":"IF($G21>0,VLOOKUP($G21,DrawPrep!$A$3:$G$34,3,FALSE),0)","v":25297},{"$f":"IF($I21>0,VLOOKUP($I21,DrawPrep!$C$3:$G$34,2,FALSE),\"bye\")","v":"ΚΑΠΙΡΗΣ ΣΤΑΜΑΤΗΣ"},"ΚΑΠΙΡΗΣ",{"$f":"IF($I21>0,VLOOKUP($I21,DrawPrep!$C$3:$G$34,5,FALSE),\"\")","v":"Α.Ο.Α.ΦΙΛΟΘΕΗΣ"},2,{"$f":"UPPER(IF($A$2=\"R\",IF(OR(M21=1,M21=\"a\"),I21,IF(OR(M21=2,M21=\"b\"),I22,\"\")),IF(OR(M21=1,M21=\"a\"),K21,IF(OR(M21=2,M21=\"b\"),K22,\"\"))))","v":"ΣΤΑΥΡΑΚΑΣ"}]
[18,{"$f":"13-D22+8","v":21},{"$f":"B21","v":6},0,{"$f":"IF($B$2>=C22,1,0)","v":0},{"$f":"IF(NOT($G22=\"-\"),VLOOKUP($G22,DrawPrep!$A$3:$G$34,2,FALSE),\"\")","v":0},{"$f":"IF($B$2>=C22,\"-\",VLOOKUP($B22,Setup!$K$2:$L$33,2,FALSE))","v":20},{"$f":"IF(NOT($G22=\"-\"),VLOOKUP($G22,DrawPrep!$A$3:$G$34,5,FALSE),0)","v":43},{"$f":"IF(NOT($G22=\"-\"),VLOOKUP($G22,DrawPrep!$A$3:$G$34,3,FALSE),0)","v":27180},{"$f":"IF($I22>0,VLOOKUP($I22,DrawPrep!$C$3:$G$34,2,FALSE),\"bye\")","v":"ΣΤΑΥΡΑΚΑΣ ΜΙΝΩΣ-ΚΙΜΩΝ"},"ΣΤΑΥΡΑΚΑΣ",{"$f":"IF($I22>0,VLOOKUP($I22,DrawPrep!$C$3:$G$34,5,FALSE),\"\")","v":"Α.Ο.Α.ΦΙΛΟΘΕΗΣ"},null,null,1,{"$f":"UPPER(IF($A$2=\"R\",IF(OR(O22=1,O22=\"a\"),N21,IF(OR(O22=2,O22=\"b\"),N23,\"\")),IF(OR(O22=1,O22=\"a\"),N21,IF(OR(O22=2,O22=\"b\"),N23,\"\"))))","v":"ΣΤΑΥΡΑΚΑΣ"}]
[19,{"$f":"14-D23+8","v":22},null,0,0,{"$f":"IF(NOT($G23=\"-\"),VLOOKUP($G23,DrawPrep!$A$3:$G$34,2,FALSE),\"\")","v":0},{"$f":"VLOOKUP($B23,Setup!$K$2:$L$33,2,FALSE)","v":22},{"$f":"IF($G23>0,VLOOKUP($G23,DrawPrep!$A$3:$G$34,5,FALSE),0)","v":41},{"$f":"IF($G23>0,VLOOKUP($G23,DrawPrep!$A$3:$G$34,3,FALSE),0)","v":28144},{"$f":"IF($I23>0,VLOOKUP($I23,DrawPrep!$C$3:$G$34,2,FALSE),\"bye\")","v":"ΚΑΛΑΜΠΑΚΑΣ ΑΝΑΣΤΑΣΙΟΣ"},"ΚΑΛΑΜΠΑΚΑΣ",{"$f":"IF($I23>0,VLOOKUP($I23,DrawPrep!$C$3:$G$34,5,FALSE),\"\")","v":"Α.Σ.Α.ΛΑΡΙΣΑΣ"},2,{"$f":"UPPER(IF($A$2=\"R\",IF(OR(M23=1,M23=\"a\"),I23,IF(OR(M23=2,M23=\"b\"),I24,\"\")),IF(OR(M23=1,M23=\"a\"),K23,IF(OR(M23=2,M23=\"b\"),K24,\"\"))))","v":"ΣΑΚΕΛΛΑΡΙΔΗΣ"}]
[20,{"$f":"15-D24+8","v":23},12,0,{"$f":"IF($B$2>=C24,1,0)","v":0},{"$f":"IF(NOT($G24=\"-\"),VLOOKUP($G24,DrawPrep!$A$3:$G$34,2,FALSE),\"\")","v":0},{"$f":"IF($B$2>=C24,\"-\",VLOOKUP($B24,Setup!$K$2:$L$33,2,FALSE))","v":14},{"$f":"IF(NOT($G24=\"-\"),VLOOKUP($G24,DrawPrep!$A$3:$G$34,5,FALSE),0)","v":53},{"$f":"IF(NOT($G24=\"-\"),VLOOKUP($G24,DrawPrep!$A$3:$G$34,3,FALSE),0)","v":30054},{"$f":"IF($I24>0,VLOOKUP($I24,DrawPrep!$C$3:$G$34,2,FALSE),\"bye\")","v":"ΣΑΚΕΛΛΑΡΙΔΗΣ ΜΙΧΑΛΗΣ"},"ΣΑΚΕΛΛΑΡΙΔΗΣ",{"$f":"IF($I24>0,VLOOKUP($I24,DrawPrep!$C$3:$G$34,5,FALSE),\"\")","v":"Ο.Α.ΑΓΙΑΣ ΠΑΡΑΣΚΕΥΗΣ"},null,null,null,null,1,{"$f":"UPPER(IF($A$2=\"R\",IF(OR(Q24=1,Q24=\"a\"),P22,IF(OR(Q24=2,Q24=\"b\"),P26,\"\")),IF(OR(Q24=1,Q24=\"a\"),P22,IF(OR(Q24=2,Q24=\"b\"),P26,\"\"))))","v":"ΣΤΑΥΡΑΚΑΣ"}]
[21,{"$f":"16-D25+8","v":24},null,0,0,{"$f":"IF(NOT($G25=\"-\"),VLOOKUP($G25,DrawPrep!$A$3:$G$34,2,FALSE),\"\")","v":0},{"$f":"VLOOKUP($B25,Setup!$K$2:$L$33,2,FALSE)","v":21},{"$f":"IF($G25>0,VLOOKUP($G25,DrawPrep!$A$3:$G$34,5,FALSE),0)","v":41},{"$f":"IF($G25>0,VLOOKUP($G25,DrawPrep!$A$3:$G$34,3,FALSE),0)","v":27583},{"$f":"IF($I25>0,VLOOKUP($I25,DrawPrep!$C$3:$G$34,2,FALSE),\"bye\")","v":"ΠΑΧΑΚΗΣ ΝΙΚΟΛΑΟΣ-ΑΝΔΡΕΑΣ"},"ΠΑΧΑΚΗΣ",{"$f":"IF($I25>0,VLOOKUP($I25,DrawPrep!$C$3:$G$34,5,FALSE),\"\")","v":"Α.Ο.Α.ΗΛΙΟΥΠΟΛΗΣ"},1,{"$f":"UPPER(IF($A$2=\"R\",IF(OR(M25=1,M25=\"a\"),I25,IF(OR(M25=2,M25=\"b\"),I26,\"\")),IF(OR(M25=1,M25=\"a\"),K25,IF(OR(M25=2,M25=\"b\"),K26,\"\"))))","v":"ΠΑΧΑΚΗΣ"}]
[22,{"$f":"17-D26+8","v":25},14,0,{"$f":"IF($B$2>=C26,1,0)","v":0},{"$f":"IF(NOT($G26=\"-\"),VLOOKUP($G26,DrawPrep!$A$3:$G$34,2,FALSE),\"\")","v":0},{"$f":"IF($B$2>=C26,\"-\",VLOOKUP($B26,Setup!$K$2:$L$33,2,FALSE))","v":28},{"$f":"IF(NOT($G26=\"-\"),VLOOKUP($G26,DrawPrep!$A$3:$G$34,5,FALSE),0)","v":34},{"$f":"IF(NOT($G26=\"-\"),VLOOKUP($G26,DrawPrep!$A$3:$G$34,3,FALSE),0)","v":22876},{"$f":"IF($I26>0,VLOOKUP($I26,DrawPrep!$C$3:$G$34,2,FALSE),\"bye\")","v":"ΓΕΡΟΥΚΗΣ ΒΑΣΙΛΕΙΟΣ"},"ΓΕΡΟΥΚΗΣ",{"$f":"IF($I26>0,VLOOKUP($I26,DrawPrep!$C$3:$G$34,5,FALSE),\"\")","v":"Ο.Α.ΝΙΚΑΙΑ ΛΑΡΙΣΑΣ"},null,null,2,{"$f":"UPPER(IF($A$2=\"R\",IF(OR(O26=1,O26=\"a\"),N25,IF(OR(O26=2,O26=\"b\"),N27,\"\")),IF(OR(O26=1,O26=\"a\"),N25,IF(OR(O26=2,O26=\"b\"),N27,\"\"))))","v":"ΤΣΙΡΑΝΙΔΗΣ"}]
[23,{"$f":"18-D27+8","v":26},{"$f":"B28","v":4},0,{"$f":"IF($B$2>=C27,1,0)","v":0},{"$f":"IF(NOT($G27=\"-\"),VLOOKUP($G27,DrawPrep!$A$3:$G$34,2,FALSE),\"\")","v":0},{"$f":"IF($B$2>=C27,\"-\",VLOOKUP($B27,Setup!$K$2:$L$33,2,FALSE))","v":16},{"$f":"IF(NOT($G27=\"-\"),VLOOKUP($G27,DrawPrep!$A$3:$G$34,5,FALSE),0)","v":48},{"$f":"IF(NOT($G27=\"-\"),VLOOKUP($G27,DrawPrep!$A$3:$G$34,3,FALSE),0)","v":30186},{"$f":"IF($I27>0,VLOOKUP($I27,DrawPrep!$C$3:$G$34,2,FALSE),\"bye\")","v":"ΠΙΤΣΙΝΗΣ ΔΗΜΗΤΡΙΟΣ"},"ΠΙΤΣΙΝΗΣ",{"$f":"IF($I27>0,VLOOKUP($I27,DrawPrep!$C$3:$G$34,5,FALSE),\"\")","v":"Ο.Α.ΧΑΛΚΙΔΑΣ"},2,{"$f":"UPPER(IF($A$2=\"R\",IF(OR(M27=1,M27=\"a\"),I27,IF(OR(M27=2,M27=\"b\"),I28,\"\")),IF(OR(M27=1,M27=\"a\"),K27,IF(OR(M27=2,M27=\"b\"),K28,\"\"))))","v":"ΤΣΙΡΑΝΙΔΗΣ"}]
[24,{"$f":"VALUE(Setup!E3)","v":4},null,0,0,{"$f":"IF(NOT($G28=\"-\"),VLOOKUP($G28,DrawPrep!$A$3:$G$34,2,FALSE),\"\")","v":0},{"$f":"VLOOKUP($B28,Setup!$K$2:$L$33,2,FALSE)","v":4},{"$f":"IF($G28>0,VLOOKUP($G28,DrawPrep!$A$3:$G$34,5,FALSE),0)","v":140},{"$f":"IF($G28>0,VLOOKUP($G28,DrawPrep!$A$3:$G$34,3,FALSE),0)","v":23517},{"$f":"IF($I28>0,VLOOKUP($I28,DrawPrep!$C$3:$G$34,2,FALSE),\"bye\")","v":"ΤΣΙΡΑΝΙΔΗΣ ΕΥΣΤΑΘΙΟΣ"},"ΤΣΙΡΑΝΙΔΗΣ",{"$f":"IF($I28>0,VLOOKUP($I28,DrawPrep!$C$3:$G$34,5,FALSE),\"\")","v":"Ο.Α.ΤΟΥΜΠΑΣ"},null,null,null,null,null,null,1,{"$f":"UPPER(IF($A$2=\"R\",IF(OR(S28=1,S28=\"a\"),R24,IF(OR(S28=2,S28=\"b\"),R32,\"\")),IF(OR(S28=1,S28=\"a\"),R24,IF(OR(S28=2,S28=\"b\"),R32,\"\"))))","v":"ΣΤΑΥΡΑΚΑΣ"}]
[25,{"$f":"VALUE(Setup!E8)","v":7},null,0,0,{"$f":"IF(NOT($G29=\"-\"),VLOOKUP($G29,DrawPrep!$A$3:$G$34,2,FALSE),\"\")","v":0},{"$f":"VLOOKUP($B29,Setup!$K$2:$L$33,2,FALSE)","v":7},{"$f":"IF($G29>0,VLOOKUP($G29,DrawPrep!$A$3:$G$34,5,FALSE),0)","v":60},{"$f":"IF($G29>0,VLOOKUP($G29,DrawPrep!$A$3:$G$34,3,FALSE),0)","v":22866},{"$f":"IF($I29>0,VLOOKUP($I29,DrawPrep!$C$3:$G$34,2,FALSE),\"bye\")","v":"ΚΟΝΤΟΠΟΥΛΟΣ ΘΕΟΦΑΝΗΣ"},"ΚΟΝΤΟΠΟΥΛΟΣ",{"$f":"IF($I29>0,VLOOKUP($I29,DrawPrep!$C$3:$G$34,5,FALSE),\"\")","v":"Ο.Α.ΚΟΡΙΝΘΟΥ"},1,{"$f":"UPPER(IF($A$2=\"R\",IF(OR(M29=1,M29=\"a\"),I29,IF(OR(M29=2,M29=\"b\"),I30,\"\")),IF(OR(M29=1,M29=\"a\"),K29,IF(OR(M29=2,M29=\"b\"),K30,\"\"))))","v":"ΚΟΝΤΟΠΟΥΛΟΣ"}]
[26,{"$f":"19-D30+8","v":27},{"$f":"B29","v":7},0,{"$f":"IF($B$2>=C30,1,0)","v":0},{"$f":"IF(NOT($G30=\"-\"),VLOOKUP($G30,DrawPrep!$A$3:$G$34,2,FALSE),\"\")","v":0},{"$f":"IF($B$2>=C30,\"-\",VLOOKUP($B30,Setup!$K$2:$L$33,2,FALSE))","v":31},{"$f":"IF(NOT($G30=\"-\"),VLOOKUP($G30,DrawPrep!$A$3:$G$34,5,FALSE),0)","v":31},{"$f":"IF(NOT($G30=\"-\"),VLOOKUP($G30,DrawPrep!$A$3:$G$34,3,FALSE),0)","v":22656},{"$f":"IF($I30>0,VLOOKUP($I30,DrawPrep!$C$3:$G$34,2,FALSE),\"bye\")","v":"ΤΖΩΡΤΖΟΣ ΣΤΑΥΡΟΣ"},"ΤΖΩΡΤΖΟΣ",{"$f":"IF($I30>0,VLOOKUP($I30,DrawPrep!$C$3:$G$34,5,FALSE),\"\")","v":"Α.Ο.Α.ΣΤΑΥΡΟΥΠΟΛΗΣ ΙΦΙΤΟΣ"},null,null,1,{"$f":"UPPER(IF($A$2=\"R\",IF(OR(O30=1,O30=\"a\"),N29,IF(OR(O30=2,O30=\"b\"),N31,\"\")),IF(OR(O30=1,O30=\"a\"),N29,IF(OR(O30=2,O30=\"b\"),N31,\"\"))))","v":"ΚΟΝΤΟΠΟΥΛΟΣ"}]
[27,{"$f":"20-D31+8","v":28},null,0,0,{"$f":"IF(NOT($G31=\"-\"),VLOOKUP($G31,DrawPrep!$A$3:$G$34,2,FALSE),\"\")","v":0},{"$f":"VLOOKUP($B31,Setup!$K$2:$L$33,2,FALSE)","v":23},{"$f":"IF($G31>0,VLOOKUP($G31,DrawPrep!$A$3:$G$34,5,FALSE),0)","v":41},{"$f":"IF($G31>0,VLOOKUP($G31,DrawPrep!$A$3:$G$34,3,FALSE),0)","v":26914},{"$f":"IF($I31>0,VLOOKUP($I31,DrawPrep!$C$3:$G$34,2,FALSE),\"bye\")","v":"ΒΡΑΝΑΣ ΘΕΜΗΣ"},"ΒΡΑΝΑΣ",{"$f":"IF($I31>0,VLOOKUP($I31,DrawPrep!$C$3:$G$34,5,FALSE),\"\")","v":"Α.Ο.Α.ΦΙΛΟΘΕΗΣ"},2,{"$f":"UPPER(IF($A$2=\"R\",IF(OR(M31=1,M31=\"a\"),I31,IF(OR(M31=2,M31=\"b\"),I32,\"\")),IF(OR(M31=1,M31=\"a\"),K31,IF(OR(M31=2,M31=\"b\"),K32,\"\"))))","v":"ΣΗΜΑΙΟΦΟΡΙΔΗΣ"}]
[28,{"$f":"21-D32+8","v":29},10,0,{"$f":"IF($B$2>=C32,1,0)","v":0},{"$f":"IF(NOT($G32=\"-\"),VLOOKUP($G32,DrawPrep!$A$3:$G$34,2,FALSE),\"\")","v":0},{"$f":"IF($B$2>=C32,\"-\",VLOOKUP($B32,Setup!$K$2:$L$33,2,FALSE))","v":26},{"$f":"IF(NOT($G32=\"-\"),VLOOKUP($G32,DrawPrep!$A$3:$G$34,5,FALSE),0)","v":38},{"$f":"IF(NOT($G32=\"-\"),VLOOKUP($G32,DrawPrep!$A$3:$G$34,3,FALSE),0)","v":29274},{"$f":"IF($I32>0,VLOOKUP($I32,DrawPrep!$C$3:$G$34,2,FALSE),\"bye\")","v":"ΣΗΜΑΙΟΦΟΡΙΔΗΣ ΧΑΡΑΛΑΜΠΟΣ"},"ΣΗΜΑΙΟΦΟΡΙΔΗΣ",{"$f":"IF($I32>0,VLOOKUP($I32,DrawPrep!$C$3:$G$34,5,FALSE),\"\")","v":"ΠΕΥΚΗ-Γ.ΚΑΛΟΒΕΛΩΝΗΣ"},null,null,null,null,2,{"$f":"UPPER(IF($A$2=\"R\",IF(OR(Q32=1,Q32=\"a\"),P30,IF(OR(Q32=2,Q32=\"b\"),P34,\"\")),IF(OR(Q32=1,Q32=\"a\"),P30,IF(OR(Q32=2,Q32=\"b\"),P34,\"\"))))","v":"ΑΝΤΩΝΟΠΟΥΛΟΣ"}]
[29,{"$f":"22-D33+8","v":30},null,0,0,{"$f":"IF(NOT($G33=\"-\"),VLOOKUP($G33,DrawPrep!$A$3:$G$34,2,FALSE),\"\")","v":0},{"$f":"VLOOKUP($B33,Setup!$K$2:$L$33,2,FALSE)","v":25},{"$f":"IF($G33>0,VLOOKUP($G33,DrawPrep!$A$3:$G$34,5,FALSE),0)","v":39},{"$f":"IF($G33>0,VLOOKUP($G33,DrawPrep!$A$3:$G$34,3,FALSE),0)","v":24115},{"$f":"IF($I33>0,VLOOKUP($I33,DrawPrep!$C$3:$G$34,2,FALSE),\"bye\")","v":"ΝΤΑΝΤΙΝΗΣ ΑΓΓΕΛΟΣ"},"ΝΤΑΝΤΙΝΗΣ",{"$f":"IF($I33>0,VLOOKUP($I33,DrawPrep!$C$3:$G$34,5,FALSE),\"\")","v":"Α.Ε.Τ.ΝΙΚΗ ΠΑΤΡΩΝ"},1,{"$f":"UPPER(IF($A$2=\"R\",IF(OR(M33=1,M33=\"a\"),I33,IF(OR(M33=2,M33=\"b\"),I34,\"\")),IF(OR(M33=1,M33=\"a\"),K33,IF(OR(M33=2,M33=\"b\"),K34,\"\"))))","v":"ΝΤΑΝΤΙΝΗΣ"}]
[30,{"$f":"23-D34+8","v":31},16,0,{"$f":"IF($B$2>=C34,1,0)","v":0},{"$f":"IF(NOT($G34=\"-\"),VLOOKUP($G34,DrawPrep!$A$3:$G$34,2,FALSE),\"\")","v":0},{"$f":"IF($B$2>=C34,\"-\",VLOOKUP($B34,Setup!$K$2:$L$33,2,FALSE))","v":9},{"$f":"IF(NOT($G34=\"-\"),VLOOKUP($G34,DrawPrep!$A$3:$G$34,5,FALSE),0)","v":60},{"$f":"IF(NOT($G34=\"-\"),VLOOKUP($G34,DrawPrep!$A$3:$G$34,3,FALSE),0)","v":25296},{"$f":"IF($I34>0,VLOOKUP($I34,DrawPrep!$C$3:$G$34,2,FALSE),\"bye\")","v":"ΣΠΑΘΗΣ ΜΑΡΙΝΟΣ"},"ΣΠΑΘΗΣ",{"$f":"IF($I34>0,VLOOKUP($I34,DrawPrep!$C$3:$G$34,5,FALSE),\"\")","v":"Α.Ο.Α.ΗΛΙΟΥΠΟΛΗΣ"},null,null,2,{"$f":"UPPER(IF($A$2=\"R\",IF(OR(O34=1,O34=\"a\"),N33,IF(OR(O34=2,O34=\"b\"),N35,\"\")),IF(OR(O34=1,O34=\"a\"),N33,IF(OR(O34=2,O34=\"b\"),N35,\"\"))))","v":"ΑΝΤΩΝΟΠΟΥΛΟΣ"}]
[31,{"$f":"24-D35+8","v":32},{"$f":"B36","v":2},0,{"$f":"IF($B$2>=C35,1,0)","v":0},{"$f":"IF(NOT($G35=\"-\"),VLOOKUP($G35,DrawPrep!$A$3:$G$34,2,FALSE),\"\")","v":0},{"$f":"IF($B$2>=C35,\"-\",VLOOKUP($B35,Setup!$K$2:$L$33,2,FALSE))","v":27},{"$f":"IF(NOT($G35=\"-\"),VLOOKUP($G35,DrawPrep!$A$3:$G$34,5,FALSE),0)","v":36},{"$f":"IF(NOT($G35=\"-\"),VLOOKUP($G35,DrawPrep!$A$3:$G$34,3,FALSE),0)","v":26385},{"$f":"IF($I35>0,VLOOKUP($I35,DrawPrep!$C$3:$G$34,2,FALSE),\"bye\")","v":"ΒΟΥΛΓΑΡΑΚΗΣ ΕΛΕΥΘΕΡΙΟΣ"},"ΒΟΥΛΓΑΡΑΚΗΣ",{"$f":"IF($I35>0,VLOOKUP($I35,DrawPrep!$C$3:$G$34,5,FALSE),\"\")","v":"Ο.Α.ΣΟΥΔΑΣ"},2,{"$f":"UPPER(IF($A$2=\"R\",IF(OR(M35=1,M35=\"a\"),I35,IF(OR(M35=2,M35=\"b\"),I36,\"\")),IF(OR(M35=1,M35=\"a\"),K35,IF(OR(M35=2,M35=\"b\"),K36,\"\"))))","v":"ΑΝΤΩΝΟΠΟΥΛΟΣ"}]
[32,2,null,0,0,{"$f":"IF(NOT($G36=\"-\"),VLOOKUP($G36,DrawPrep!$A$3:$G$34,2,FALSE),\"\")","v":0},{"$f":"VLOOKUP($B36,Setup!$K$2:$L$33,2,FALSE)","v":2},{"$f":"IF($G36>0,VLOOKUP($G36,DrawPrep!$A$3:$G$34,5,FALSE),0)","v":180},{"$f":"IF($G36>0,VLOOKUP($G36,DrawPrep!$A$3:$G$34,3,FALSE),0)","v":23775},{"$f":"IF($I36>0,VLOOKUP($I36,DrawPrep!$C$3:$G$34,2,FALSE),\"bye\")","v":"ΑΝΤΩΝΟΠΟΥΛΟΣ ΧΡΗΣΤΟΣ"},"ΑΝΤΩΝΟΠΟΥΛΟΣ",{"$f":"IF($I36>0,VLOOKUP($I36,DrawPrep!$C$3:$G$34,5,FALSE),\"\")","v":"Ο.Α.ΚΕΡΑΤΣΙΝΙΟΥ"}]
[null,null,null,null,null,null,null,null,null,null,null,null,null," ",null," ",null," ",null," "]
[]
[]
[null,null,null,null,null,null,null,null,null,"seeded players"]
[null,null,null,null,null,null,null,null,null,{"$f":"\"1. \" & IF(Setup!B19>0,LEFT(DrawPrep!D3,FIND(\" \",DrawPrep!D3)+1),\"\")","v":"1. ΤΣΙΤΣΙΠΑΣ Σ"}]
[null,null,null,null,null,null,null,null,null,{"$f":"\"2. \" & IF(Setup!B19>1,LEFT(DrawPrep!D4,FIND(\" \",DrawPrep!D4)+1),\"\")","v":"2. ΑΝΤΩΝΟΠΟΥΛΟΣ Χ"},null,null,null,null,null,null,null,"επιδιαιτητής"]
[null,null,null,null,null,null,null,null,null,{"$f":"\"3. \" & IF(Setup!B19>2,LEFT(DrawPrep!D5,FIND(\" \",DrawPrep!D5)+1),\"\")","v":"3. ΛΑΖΑΡΙΔΗΣ Κ"},null,null,null,null,null,null,null,{"$f":"Setup!B10","v":"Ντ.Πατσουράκου"}]
[null,null,null,null,null,null,null,null,null,{"$f":"\"4. \" & IF(Setup!B19>3,LEFT(DrawPrep!D6,FIND(\" \",DrawPrep!D6)+1),\"\")","v":"4. ΤΣΙΡΑΝΙΔΗΣ Ε"}]
[null,null,null,null,null,null,null,null,null,{"$f":"\"5. \" & IF(Setup!B19>4,LEFT(DrawPrep!D7,FIND(\" \",DrawPrep!D7)+1),\"\")","v":"5. ΗΛΙΟΠΟΥΛΟΣ Β"}]
[null,null,null,null,null,null,null,null,null,{"$f":"\"6. \" & IF(Setup!B19>5,LEFT(DrawPrep!D8,FIND(\" \",DrawPrep!D8)+1),\"\")","v":"6. ΚΑΠΙΡΗΣ Σ"}]
[null,null,null,null,null,null,null,null,null,{"$f":"\"7. \" & IF(Setup!B19>6,LEFT(DrawPrep!D9,FIND(\" \",DrawPrep!D9)+1),\"\")","v":"7. ΚΟΝΤΟΠΟΥΛΟΣ Θ"}]
[null,null,null,null,null,null,null,null,null,{"$f":"\"8. \" & IF(Setup!B19>7,LEFT(DrawPrep!D10,FIND(\" \",DrawPrep!D10)+1),\"\")","v":"8. ΑΝΔΡΩΝΗΣ Ι"}]

{"sheet":"PrgPrep","index":3,"n_rows":37,"n_cols":7,"rows_kept":37,"cut":false,"hidden":false,"merged":[]}
[{"$f":"Setup!B3 & \", \" & Setup!B4 & \", \" & Setup!B6  & \" (\" & Setup!B7 & \")\"","v":"Η' ΕΝΩΣΗ, 3ο Ενωσιακό, Αττικός Ήλιος (Α14)"},null,null,null,null,null,"Don't Change this Worksheet !"]
[{"$f":"CONCATENATE(Setup!B10,\", \",Setup!B11)","v":"Ντ.Πατσουράκου, 6934 306004"}]
["Πρόγραμμα αγώνων",null,null,null,{"$f":"Setup!B8","v":"4"}]
["ΩΡΑ","Κτγρ.","Αθλητής-Σύλλογος",null,"Αθλητής-Σύλλογος"]
["Έναρξη",{"$f":"Setup!$B$7","v":"Α14"},{"$f":"IF(OR(Draw32!J5=\"bye\",Draw32!J5=\"LWD\"),\"\",CONCATENATE(LEFT(Draw32!J5,FIND(\" \",Draw32!J5)+1),\" (\",Draw32!L5,\")\"))","v":"ΤΣΙΤΣΙΠΑΣ Σ (Ο.Α.ΓΛΥΦΑΔΑΣ)"},{"$f":"IF(OR(C5=\"\",E5=\"\"),\" \",\"-\")","v":"-"},{"$f":"IF(OR(Draw32!J6=\"bye\",Draw32!J6=\"LWD\"), \"\", CONCATENATE(LEFT(Draw32!J6,FIND(\" \",Draw32!J6)+1),\" (\",Draw32!L6,\")\"))","v":"ΚΟΤΣΑΡΙΝΗΣ Β (Α.Γ.Ο.ΦΙΛΙΠΠΙΑΔΑΣ)"}]
[null,{"$f":"Setup!$B$7","v":"Α14"},{"$f":"IF(OR(Draw32!J7=\"bye\",Draw32!J7=\"LWD\"),\"\",CONCATENATE(LEFT(Draw32!J7,FIND(\" \",Draw32!J7)+1),\" (\",Draw32!L7,\")\"))","v":"ΚΗΠΟΥΡΟΣ Σ (Ο.Α.ΧΑΝΙΩΝ)"},{"$f":"IF(OR(C6=\"\",E6=\"\"),\" \",\"-\")","v":"-"},{"$f":"IF(OR(Draw32!J8=\"bye\",Draw32!J8=\"LWD\"), \"\", CONCATENATE(LEFT(Draw32!J8,FIND(\" \",Draw32!J8)+1),\" (\",Draw32!L8,\")\"))","v":"ΒΛΑΧΟΝΙΚΟΛΟΣ Π (ΡΟΔΙΑΚΟΣ Ο.Α.)"}]
[null,{"$f":"Setup!$B$7","v":"Α14"},{"$f":"IF(OR(Draw32!J9=\"bye\",Draw32!J9=\"LWD\"),\"\",CONCATENATE(LEFT(Draw32!J9,FIND(\" \",Draw32!J9)+1),\" (\",Draw32!L9,\")\"))","v":"ΒΟΪΝΕΑ Α (Ο.Α.ΒΟΥΛΙΑΓΜΕΝΗΣ ΜΙΚΡΟΙ ΑΣΣΟΙ)"},"-",{"$f":"IF(OR(Draw32!J10=\"bye\",Draw32!J10=\"LWD\"), \"\", CONCATENATE(LEFT(Draw32!J10,FIND(\" \",Draw32!J10)+1),\" (\",Draw32!L10,\")\"))","v":"ΚΩΣΤΑΡΑΣ Π (Ο.Α.ΠΕΤΡΟΥΠΟΛΗΣ)"}]
[null,{"$f":"Setup!$B$7","v":"Α14"},{"$f":"IF(OR(Draw32!J11=\"bye\",Draw32!J11=\"LWD\"),\"\",CONCATENATE(LEFT(Draw32!J11,FIND(\" \",Draw32!J11)+1),\" (\",Draw32!L11,\")\"))","v":"ΒΑΡΔΑΚΗΣ Β (ΑΚΑΔ.ΑΝΤΙΣΦ.ΙΩΑΝΝΙΝΩΝ)"},"-",{"$f":"IF(OR(Draw32!J12=\"bye\",Draw32!J12=\"LWD\"), \"\", CONCATENATE(LEFT(Draw32!J12,FIND(\" \",Draw32!J12)+1),\" (\",Draw32!L12,\")\"))","v":"ΑΝΔΡΩΝΗΣ Ι (Ο.Α.ΑΓΙΑΣ ΠΑΡΑΣΚΕΥΗΣ)"}]
[null,{"$f":"Setup!$B$7","v":"Α14"},{"$f":"IF(OR(Draw32!J13=\"bye\",Draw32!J13=\"LWD\"),\"\",CONCATENATE(LEFT(Draw32!J13,FIND(\" \",Draw32!J13)+1),\" (\",Draw32!L13,\")\"))","v":"ΛΑΖΑΡΙΔΗΣ Κ (Ε.Σ.Ο.ΕΠΙΚΟΥΡΟΣ ΠΟΛΙΧΝΗΣ)"},"-",{"$f":"IF(OR(Draw32!J14=\"bye\",Draw32!J14=\"LWD\"), \"\", CONCATENATE(LEFT(Draw32!J14,FIND(\" \",Draw32!J14)+1),\" (\",Draw32!L14,\")\"))","v":"ΠΗΛΙΟΥΝΗΣ Μ (Ο.Α.ΒΟΥΛΙΑΓΜΕΝΗΣ ΜΙΚΡΟΙ ΑΣΣΟΙ)"}]
["όχι πριν",{"$f":"Setup!$B$7","v":"Α14"},{"$f":"IF(OR(Draw32!J15=\"bye\",Draw32!J15=\"LWD\"),\"\",CONCATENATE(LEFT(Draw32!J15,FIND(\" \",Draw32!J15)+1),\" (\",Draw32!L15,\")\"))","v":"ΛΑΜΠΡΟΠΟΥΛΟΣ Ι (Ο.Α.ΒΟΥΛΙΑΓΜΕΝΗΣ ΜΙΚΡΟΙ ΑΣΣΟΙ)"},"-",{"$f":"IF(OR(Draw32!J16=\"bye\",Draw32!J16=\"LWD\"), \"\", CONCATENATE(LEFT(Draw32!J16,FIND(\" \",Draw32!J16)+1),\" (\",Draw32!L16,\")\"))","v":"ΚΑΤΣΑΛΗΣ Κ (Α.Σ.Α.ΛΑΡΙΣΑΣ)"}]
[null,{"$f":"Setup!$B$7","v":"Α14"},{"$f":"IF(OR(Draw32!J17=\"bye\",Draw32!J17=\"LWD\"),\"\",CONCATENATE(LEFT(Draw32!J17,FIND(\" \",Draw32!J17)+1),\" (\",Draw32!L17,\")\"))","v":"ΑΓΙΟΥΣ Γ (ΚΕΡΚΥΡΑΪΚΗ Λ.Τ.)"},"-",{"$f":"IF(OR(Draw32!J18=\"bye\",Draw32!J18=\"LWD\"), \"\", CONCATENATE(LEFT(Draw32!J18,FIND(\" \",Draw32!J18)+1),\" (\",Draw32!L18,\")\"))","v":"ΙΩΑΝΝΙΔΗΣ Ν (Α.Ο.Α.ΦΙΛΟΘΕΗΣ)"}]
[null,{"$f":"Setup!$B$7","v":"Α14"},{"$f":"IF(OR(Draw32!J19=\"bye\",Draw32!J19=\"LWD\"),\"\",CONCATENATE(LEFT(Draw32!J19,FIND(\" \",Draw32!J19)+1),\" (\",Draw32!L19,\")\"))","v":"ΚΙΣΣΑΣ Χ (Α.Ο.ΣΙΚΥΩΝΟΣ ΚΙΑΤΟΥ)"},"-",{"$f":"IF(OR(Draw32!J20=\"bye\",Draw32!J20=\"LWD\"), \"\", CONCATENATE(LEFT(Draw32!J20,FIND(\" \",Draw32!J20)+1),\" (\",Draw32!L20,\")\"))","v":"ΗΛΙΟΠΟΥΛΟΣ Β (Α.Ο.Α.ΦΙΛΟΘΕΗΣ)"}]
[null,{"$f":"Setup!$B$7","v":"Α14"},{"$f":"IF(OR(Draw32!J21=\"bye\",Draw32!J21=\"LWD\"),\"\",CONCATENATE(LEFT(Draw32!J21,FIND(\" \",Draw32!J21)+1),\" (\",Draw32!L21,\")\"))","v":"ΚΑΠΙΡΗΣ Σ (Α.Ο.Α.ΦΙΛΟΘΕΗΣ)"},"-",{"$f":"IF(OR(Draw32!J22=\"bye\",Draw32!J22=\"LWD\"), \"\", CONCATENATE(LEFT(Draw32!J22,FIND(\" \",Draw32!J22)+1),\" (\",Draw32!L22,\")\"))","v":"ΣΤΑΥΡΑΚΑΣ Μ (Α.Ο.Α.ΦΙΛΟΘΕΗΣ)"}]
[null,{"$f":"Setup!$B$7","v":"Α14"},{"$f":"IF(OR(Draw32!J23=\"bye\",Draw32!J23=\"LWD\"),\"\",CONCATENATE(LEFT(Draw32!J23,FIND(\" \",Draw32!J23)+1),\" (\",Draw32!L23,\")\"))","v":"ΚΑΛΑΜΠΑΚΑΣ Α (Α.Σ.Α.ΛΑΡΙΣΑΣ)"},"-",{"$f":"IF(OR(Draw32!J24=\"bye\",Draw32!J24=\"LWD\"), \"\", CONCATENATE(LEFT(Draw32!J24,FIND(\" \",Draw32!J24)+1),\" (\",Draw32!L24,\")\"))","v":"ΣΑΚΕΛΛΑΡΙΔΗΣ Μ (Ο.Α.ΑΓΙΑΣ ΠΑΡΑΣΚΕΥΗΣ)"}]
["όχι πριν",{"$f":"Setup!$B$7","v":"Α14"},{"$f":"IF(OR(Draw32!J25=\"bye\",Draw32!J25=\"LWD\"),\"\",CONCATENATE(LEFT(Draw32!J25,FIND(\" \",Draw32!J25)+1),\" (\",Draw32!L25,\")\"))","v":"ΠΑΧΑΚΗΣ Ν (Α.Ο.Α.ΗΛΙΟΥΠΟΛΗΣ)"},"-",{"$f":"IF(OR(Draw32!J26=\"bye\",Draw32!J26=\"LWD\"), \"\", CONCATENATE(LEFT(Draw32!J26,FIND(\" \",Draw32!J26)+1),\" (\",Draw32!L26,\")\"))","v":"ΓΕΡΟΥΚΗΣ Β (Ο.Α.ΝΙΚΑΙΑ ΛΑΡΙΣΑΣ)"}]
[null,{"$f":"Setup!$B$7","v":"Α14"},{"$f":"IF(OR(Draw32!J27=\"bye\",Draw32!J27=\"LWD\"),\"\",CONCATENATE(LEFT(Draw32!J27,FIND(\" \",Draw32!J27)+1),\" (\",Draw32!L27,\")\"))","v":"ΠΙΤΣΙΝΗΣ Δ (Ο.Α.ΧΑΛΚΙΔΑΣ)"},"-",{"$f":"IF(OR(Draw32!J28=\"bye\",Draw32!J28=\"LWD\"), \"\", CONCATENATE(LEFT(Draw32!J28,FIND(\" \",Draw32!J28)+1),\" (\",Draw32!L28,\")\"))","v":"ΤΣΙΡΑΝΙΔΗΣ Ε (Ο.Α.ΤΟΥΜΠΑΣ)"}]
[null,{"$f":"Setup!$B$7","v":"Α14"},{"$f":"IF(OR(Draw32!J29=\"bye\",Draw32!J29=\"LWD\"),\"\",CONCATENATE(LEFT(Draw32!J29,FIND(\" \",Draw32!J29)+1),\" (\",Draw32!L29,\")\"))","v":"ΚΟΝΤΟΠΟΥΛΟΣ Θ (Ο.Α.ΚΟΡΙΝΘΟΥ)"},"-",{"$f":"IF(OR(Draw32!J30=\"bye\",Draw32!J30=\"LWD\"), \"\", CONCATENATE(LEFT(Draw32!J30,FIND(\" \",Draw32!J30)+1),\" (\",Draw32!L30,\")\"))","v":"ΤΖΩΡΤΖΟΣ Σ (Α.Ο.Α.ΣΤΑΥΡΟΥΠΟΛΗΣ ΙΦΙΤΟΣ)"}]
[null,{"$f":"Setup!$B$7","v":"Α14"},{"$f":"IF(OR(Draw32!J31=\"bye\",Draw32!J31=\"LWD\"),\"\",CONCATENATE(LEFT(Draw32!J31,FIND(\" \",Draw32!J31)+1),\" (\",Draw32!L31,\")\"))","v":"ΒΡΑΝΑΣ Θ (Α.Ο.Α.ΦΙΛΟΘΕΗΣ)"},"-",{"$f":"IF(OR(Draw32!J32=\"bye\",Draw32!J32=\"LWD\"), \"\", CONCATENATE(LEFT(Draw32!J32,FIND(\" \",Draw32!J32)+1),\" (\",Draw32!L32,\")\"))","v":"ΣΗΜΑΙΟΦΟΡΙΔΗΣ Χ (ΠΕΥΚΗ-Γ.ΚΑΛΟΒΕΛΩΝΗΣ)"}]
[null,{"$f":"Setup!$B$7","v":"Α14"},{"$f":"IF(OR(Draw32!J33=\"bye\",Draw32!J33=\"LWD\"),\"\",CONCATENATE(LEFT(Draw32!J33,FIND(\" \",Draw32!J33)+1),\" (\",Draw32!L33,\")\"))","v":"ΝΤΑΝΤΙΝΗΣ Α (Α.Ε.Τ.ΝΙΚΗ ΠΑΤΡΩΝ)"},"-",{"$f":"IF(OR(Draw32!J34=\"bye\",Draw32!J34=\"LWD\"), \"\", CONCATENATE(LEFT(Draw32!J34,FIND(\" \",Draw32!J34)+1),\" (\",Draw32!L34,\")\"))","v":"ΣΠΑΘΗΣ Μ (Α.Ο.Α.ΗΛΙΟΥΠΟΛΗΣ)"}]
[null,{"$f":"Setup!$B$7","v":"Α14"},{"$f":"IF(OR(Draw32!J35=\"bye\",Draw32!J35=\"LWD\"),\"\",CONCATENATE(LEFT(Draw32!J35,FIND(\" \",Draw32!J35)+1),\" (\",Draw32!L35,\")\"))","v":"ΒΟΥΛΓΑΡΑΚΗΣ Ε (Ο.Α.ΣΟΥΔΑΣ)"},"-",{"$f":"IF(OR(Draw32!J36=\"bye\",Draw32!J36=\"LWD\"), \"\", CONCATENATE(LEFT(Draw32!J36,FIND(\" \",Draw32!J36)+1),\" (\",Draw32!L36,\")\"))","v":"ΑΝΤΩΝΟΠΟΥΛΟΣ Χ (Ο.Α.ΚΕΡΑΤΣΙΝΙΟΥ)"}]
[]
["Πρόγραμμα αγώνων",null,null,null,"Round 2"]
["ΩΡΑ","Κτγρ.","Αθλητής-Σύλλογος",null,"Αθλητής-Σύλλογος"]
["Έναρξη",{"$f":"Setup!$B$7","v":"Α14"},{"$f":"IF(Draw32!M5=\"\", \"\", IF(Draw32!M5=1, CONCATENATE(LEFT(Draw32!J5,FIND(\" \",Draw32!J5)+1),\" (\",Draw32!L5,\")\"),CONCATENATE(LEFT(Draw32!J6,FIND(\" \",Draw32!J6)+1),\" (\",Draw32!L6,\")\")))","v":"ΤΣΙΤΣΙΠΑΣ Σ (Ο.Α.ΓΛΥΦΑΔΑΣ)"},{"$f":"IF(OR(C24=\"\",E24=\"\"),\" \",\"-\")","v":"-"},{"$f":"IF(Draw32!M7=\"\", \"\", IF(Draw32!M7=1, CONCATENATE(LEFT(Draw32!J7,FIND(\" \",Draw32!J7)+1),\" (\",Draw32!L7,\")\"),CONCATENATE(LEFT(Draw32!J8,FIND(\" \",Draw32!J8)+1),\" (\",Draw32!L8,\")\")))","v":"ΒΛΑΧΟΝΙΚΟΛΟΣ Π (ΡΟΔΙΑΚΟΣ Ο.Α.)"}]
[null,{"$f":"Setup!$B$7","v":"Α14"},{"$f":"IF(Draw32!M9=\"\", \"\", IF(Draw32!M9=1, CONCATENATE(LEFT(Draw32!J9,FIND(\" \",Draw32!J9)+1),\" (\",Draw32!L9,\")\"),CONCATENATE(LEFT(Draw32!J10,FIND(\" \",Draw32!J10)+1),\" (\",Draw32!L10,\")\")))","v":"ΒΟΪΝΕΑ Α (Ο.Α.ΒΟΥΛΙΑΓΜΕΝΗΣ ΜΙΚΡΟΙ ΑΣΣΟΙ)"},"-",{"$f":"IF(Draw32!M11=\"\", \"\", IF(Draw32!M11=1, CONCATENATE(LEFT(Draw32!J11,FIND(\" \",Draw32!J11)+1),\" (\",Draw32!L11,\")\"),CONCATENATE(LEFT(Draw32!J12,FIND(\" \",Draw32!J12)+1),\" (\",Draw32!L12,\")\")))","v":"ΑΝΔΡΩΝΗΣ Ι (Ο.Α.ΑΓΙΑΣ ΠΑΡΑΣΚΕΥΗΣ)"}]
[null,{"$f":"Setup!$B$7","v":"Α14"},{"$f":"IF(Draw32!M13=\"\", \"\", IF(Draw32!M13=1, CONCATENATE(LEFT(Draw32!J13,FIND(\" \",Draw32!J13)+1),\" (\",Draw32!L13,\")\"),CONCATENATE(LEFT(Draw32!J14,FIND(\" \",Draw32!J14)+1),\" (\",Draw32!L14,\")\")))","v":"ΛΑΖΑΡΙΔΗΣ Κ (Ε.Σ.Ο.ΕΠΙΚΟΥΡΟΣ ΠΟΛΙΧΝΗΣ)"},"-",{"$f":"IF(Draw32!M15=\"\", \"\", IF(Draw32!M15=1, CONCATENATE(LEFT(Draw32!J15,FIND(\" \",Draw32!J15)+1),\" (\",Draw32!L15,\")\"),CONCATENATE(LEFT(Draw32!J16,FIND(\" \",Draw32!J16)+1),\" (\",Draw32!L16,\")\")))","v":"ΚΑΤΣΑΛΗΣ Κ (Α.Σ.Α.ΛΑΡΙΣΑΣ)"}]
[null,{"$f":"Setup!$B$7","v":"Α14"},{"$f":"IF(Draw32!M17=\"\", \"\", IF(Draw32!M17=1, CONCATENATE(LEFT(Draw32!J17,FIND(\" \",Draw32!J17)+1),\" (\",Draw32!L17,\")\"),CONCATENATE(LEFT(Draw32!J18,FIND(\" \",Draw32!J18)+1),\" (\",Draw32!L18,\")\")))","v":"ΑΓΙΟΥΣ Γ (ΚΕΡΚΥΡΑΪΚΗ Λ.Τ.)"},"-",{"$f":"IF(Draw32!M19=\"\", \"\", IF(Draw32!M19=1, CONCATENATE(LEFT(Draw32!J19,FIND(\" \",Draw32!J19)+1),\" (\",Draw32!L19,\")\"),CONCATENATE(LEFT(Draw32!J20,FIND(\" \",Draw32!J20)+1),\" (\",Draw32!L20,\")\")))","v":"ΗΛΙΟΠΟΥΛΟΣ Β (Α.Ο.Α.ΦΙΛΟΘΕΗΣ)"}]
[null,{"$f":"Setup!$B$7","v":"Α14"},{"$f":"IF(Draw32!M21=\"\", \"\", IF(Draw32!M21=1, CONCATENATE(LEFT(Draw32!J21,FIND(\" \",Draw32!J21)+1),\" (\",Draw32!L21,\")\"),CONCATENATE(LEFT(Draw32!J22,FIND(\" \",Draw32!J22)+1),\" (\",Draw32!L22,\")\")))","v":"ΣΤΑΥΡΑΚΑΣ Μ (Α.Ο.Α.ΦΙΛΟΘΕΗΣ)"},"-",{"$f":"IF(Draw32!M23=\"\", \"\", IF(Draw32!M23=1, CONCATENATE(LEFT(Draw32!J23,FIND(\" \",Draw32!J23)+1),\" (\",Draw32!L23,\")\"),CONCATENATE(LEFT(Draw32!J24,FIND(\" \",Draw32!J24)+1),\" (\",Draw32!L24,\")\")))","v":"ΣΑΚΕΛΛΑΡΙΔΗΣ Μ (Ο.Α.ΑΓΙΑΣ ΠΑΡΑΣΚΕΥΗΣ)"}]
["όχι πριν",{"$f":"Setup!$B$7","v":"Α14"},{"$f":"IF(Draw32!M25=\"\", \"\", IF(Draw32!M25=1, CONCATENATE(LEFT(Draw32!J25,FIND(\" \",Draw32!J25)+1),\" (\",Draw32!L25,\")\"),CONCATENATE(LEFT(Draw32!J26,FIND(\" \",Draw32!J26)+1),\" (\",Draw32!L26,\")\")))","v":"ΠΑΧΑΚΗΣ Ν (Α.Ο.Α.ΗΛΙΟΥΠΟΛΗΣ)"},"-",{"$f":"IF(Draw32!M27=\"\", \"\", IF(Draw32!M27=1, CONCATENATE(LEFT(Draw32!J27,FIND(\" \",Draw32!J27)+1),\" (\",Draw32!L27,\")\"),CONCATENATE(LEFT(Draw32!J28,FIND(\" \",Draw32!J28)+1),\" (\",Draw32!L28,\")\")))","v":"ΤΣΙΡΑΝΙΔΗΣ Ε (Ο.Α.ΤΟΥΜΠΑΣ)"}]
[null,{"$f":"Setup!$B$7","v":"Α14"},{"$f":"IF(Draw32!M29=\"\", \"\", IF(Draw32!M29=1, CONCATENATE(LEFT(Draw32!J29,FIND(\" \",Draw32!J29)+1),\" (\",Draw32!L29,\")\"),CONCATENATE(LEFT(Draw32!J30,FIND(\" \",Draw32!J30)+1),\" (\",Draw32!L30,\")\")))","v":"ΚΟΝΤΟΠΟΥΛΟΣ Θ (Ο.Α.ΚΟΡΙΝΘΟΥ)"},"-",{"$f":"IF(Draw32!M31=\"\", \"\", IF(Draw32!M31=1, CONCATENATE(LEFT(Draw32!J31,FIND(\" \",Draw32!J31)+1),\" (\",Draw32!L31,\")\"),CONCATENATE(LEFT(Draw32!J32,FIND(\" \",Draw32!J32)+1),\" (\",Draw32!L32,\")\")))","v":"ΣΗΜΑΙΟΦΟΡΙΔΗΣ Χ (ΠΕΥΚΗ-Γ.ΚΑΛΟΒΕΛΩΝΗΣ)"}]
[null,{"$f":"Setup!$B$7","v":"Α14"},{"$f":"IF(Draw32!M33=\"\", \"\", IF(Draw32!M33=1, CONCATENATE(LEFT(Draw32!J33,FIND(\" \",Draw32!J33)+1),\" (\",Draw32!L33,\")\"),CONCATENATE(LEFT(Draw32!J34,FIND(\" \",Draw32!J34)+1),\" (\",Draw32!L34,\")\")))","v":"ΝΤΑΝΤΙΝΗΣ Α (Α.Ε.Τ.ΝΙΚΗ ΠΑΤΡΩΝ)"},"-",{"$f":"IF(Draw32!M35=\"\", \"\", IF(Draw32!M35=1, CONCATENATE(LEFT(Draw32!J35,FIND(\" \",Draw32!J35)+1),\" (\",Draw32!L35,\")\"),CONCATENATE(LEFT(Draw32!J36,FIND(\" \",Draw32!J36)+1),\" (\",Draw32!L36,\")\")))","v":"ΑΝΤΩΝΟΠΟΥΛΟΣ Χ (Ο.Α.ΚΕΡΑΤΣΙΝΙΟΥ)"}]
[]
[]
[]
[]
[]
["Don't Change this Worksheet !"]

{"sheet":"Day1","index":4,"n_rows":20,"n_cols":5,"rows_kept":20,"cut":false,"hidden":false,"merged":[]}
["Η' ΕΝΩΣΗ, 3ο Ενωσιακό, Αττικός Ήλιος (Α14)"]
["Ντ.Πατσουράκου, 6934 306004"]
["Πρόγραμμα αγώνων",null,null,null,"4"]
["ΩΡΑ","Κτγρ.","Αθλητής-Σύλλογος",null,"Αθλητής-Σύλλογος"]
["Έναρξη","Α14","ΤΣΙΤΣΙΠΑΣ Σ (Ο.Α.ΓΛΥΦΑΔΑΣ)","-","ΚΟΤΣΑΡΙΝΗΣ Β (Α.Γ.Ο.ΦΙΛΙΠΠΙΑΔΑΣ)"]
[null,"Α14","ΚΗΠΟΥΡΟΣ Σ (Ο.Α.ΧΑΝΙΩΝ)","-","ΒΛΑΧΟΝΙΚΟΛΟΣ Π (ΡΟΔΙΑΚΟΣ Ο.Α.)"]
[null,"Α14","ΒΟΪΝΕΑ Α (Ο.Α.ΒΟΥΛΙΑΓΜΕΝΗΣ ΜΙΚΡΟΙ ΑΣΣΟΙ)","-","ΚΩΣΤΑΡΑΣ Π (Ο.Α.ΠΕΤΡΟΥΠΟΛΗΣ)"]
[null,"Α14","ΒΑΡΔΑΚΗΣ Β (ΑΚΑΔ.ΑΝΤΙΣΦ.ΙΩΑΝΝΙΝΩΝ)","-","ΑΝΔΡΩΝΗΣ Ι (Ο.Α.ΑΓΙΑΣ ΠΑΡΑΣΚΕΥΗΣ)"]
[null,"Α14","ΛΑΖΑΡΙΔΗΣ Κ (Ε.Σ.Ο.ΕΠΙΚΟΥΡΟΣ ΠΟΛΙΧΝΗΣ)","-","ΠΗΛΙΟΥΝΗΣ Μ (Ο.Α.ΒΟΥΛΙΑΓΜΕΝΗΣ ΜΙΚΡΟΙ ΑΣΣΟΙ)"]
["όχι πριν","Α14","ΛΑΜΠΡΟΠΟΥΛΟΣ Ι (Ο.Α.ΒΟΥΛΙΑΓΜΕΝΗΣ ΜΙΚΡΟΙ ΑΣΣΟΙ)","-","ΚΑΤΣΑΛΗΣ Κ (Α.Σ.Α.ΛΑΡΙΣΑΣ)"]
[null,"Α14","ΑΓΙΟΥΣ Γ (ΚΕΡΚΥΡΑΪΚΗ Λ.Τ.)","-","ΙΩΑΝΝΙΔΗΣ Ν (Α.Ο.Α.ΦΙΛΟΘΕΗΣ)"]
[null,"Α14","ΚΙΣΣΑΣ Χ (Α.Ο.ΣΙΚΥΩΝΟΣ ΚΙΑΤΟΥ)","-","ΗΛΙΟΠΟΥΛΟΣ Β (Α.Ο.Α.ΦΙΛΟΘΕΗΣ)"]
[null,"Α14","ΚΑΠΙΡΗΣ Σ (Α.Ο.Α.ΦΙΛΟΘΕΗΣ)","-","ΣΤΑΥΡΑΚΑΣ Μ (Α.Ο.Α.ΦΙΛΟΘΕΗΣ)"]
[null,"Α14","ΚΑΛΑΜΠΑΚΑΣ Α (Α.Σ.Α.ΛΑΡΙΣΑΣ)","-","ΣΑΚΕΛΛΑΡΙΔΗΣ Μ (Ο.Α.ΑΓΙΑΣ ΠΑΡΑΣΚΕΥΗΣ)"]
["όχι πριν","Α14","ΠΑΧΑΚΗΣ Ν (Α.Ο.Α.ΗΛΙΟΥΠΟΛΗΣ)","-","ΓΕΡΟΥΚΗΣ Β (Ο.Α.ΝΙΚΑΙΑ ΛΑΡΙΣΑΣ)"]
[null,"Α14","ΠΙΤΣΙΝΗΣ Δ (Ο.Α.ΧΑΛΚΙΔΑΣ)","-","ΤΣΙΡΑΝΙΔΗΣ Ε (Ο.Α.ΤΟΥΜΠΑΣ)"]
[null,"Α14","ΚΟΝΤΟΠΟΥΛΟΣ Θ (Ο.Α.ΚΟΡΙΝΘΟΥ)","-","ΤΖΩΡΤΖΟΣ Σ (Α.Ο.Α.ΣΤΑΥΡΟΥΠΟΛΗΣ ΙΦΙΤΟΣ)"]
[null,"Α14","ΒΡΑΝΑΣ Θ (Α.Ο.Α.ΦΙΛΟΘΕΗΣ)","-","ΣΗΜΑΙΟΦΟΡΙΔΗΣ Χ (ΠΕΥΚΗ-Γ.ΚΑΛΟΒΕΛΩΝΗΣ)"]
[null,"Α14","ΝΤΑΝΤΙΝΗΣ Α (Α.Ε.Τ.ΝΙΚΗ ΠΑΤΡΩΝ)","-","ΣΠΑΘΗΣ Μ (Α.Ο.Α.ΗΛΙΟΥΠΟΛΗΣ)"]
[null,"Α14","ΒΟΥΛΓΑΡΑΚΗΣ Ε (Ο.Α.ΣΟΥΔΑΣ)","-","ΑΝΤΩΝΟΠΟΥΛΟΣ Χ (Ο.Α.ΚΕΡΑΤΣΙΝΙΟΥ)"]

{"sheet":"Day2","index":5,"n_rows":20,"n_cols":5,"rows_kept":20,"cut":false,"hidden":false,"merged":[]}
["Η' ΕΝΩΣΗ, 3ο Ενωσιακό, Αττικός Ήλιος (Α14)"]
["Ντ.Πατσουράκου, 6934 306004"]
["Πρόγραμμα αγώνων",null,null,null,"Round 2"]
["ΩΡΑ","Κτγρ.","Αθλητής-Σύλλογος",null,"Αθλητής-Σύλλογος"]
["Έναρξη","Α14","ΤΣΙΤΣΙΠΑΣ Σ (Ο.Α.ΓΛΥΦΑΔΑΣ)","-","ΒΛΑΧΟΝΙΚΟΛΟΣ Π (ΡΟΔΙΑΚΟΣ Ο.Α.)"]
[null,"Α14","ΒΟΪΝΕΑ Α (Ο.Α.ΒΟΥΛΙΑΓΜΕΝΗΣ ΜΙΚΡΟΙ ΑΣΣΟΙ)","-","ΑΝΔΡΩΝΗΣ Ι (Ο.Α.ΑΓΙΑΣ ΠΑΡΑΣΚΕΥΗΣ)"]
[null,"Α14","ΛΑΖΑΡΙΔΗΣ Κ (Ε.Σ.Ο.ΕΠΙΚΟΥΡΟΣ ΠΟΛΙΧΝΗΣ)","-","ΚΑΤΣΑΛΗΣ Κ (Α.Σ.Α.ΛΑΡΙΣΑΣ)"]
[null,"Α14","ΑΓΙΟΥΣ Γ (ΚΕΡΚΥΡΑΪΚΗ Λ.Τ.)","-","ΗΛΙΟΠΟΥΛΟΣ Β (Α.Ο.Α.ΦΙΛΟΘΕΗΣ)"]
[null,"Α14","ΣΤΑΥΡΑΚΑΣ Μ (Α.Ο.Α.ΦΙΛΟΘΕΗΣ)","-","ΣΑΚΕΛΛΑΡΙΔΗΣ Μ (Ο.Α.ΑΓΙΑΣ ΠΑΡΑΣΚΕΥΗΣ)"]
["όχι πριν","Α14","ΠΑΧΑΚΗΣ Ν (Α.Ο.Α.ΗΛΙΟΥΠΟΛΗΣ)","-","ΤΣΙΡΑΝΙΔΗΣ Ε (Ο.Α.ΤΟΥΜΠΑΣ)"]
[null,"Α14","ΚΟΝΤΟΠΟΥΛΟΣ Θ (Ο.Α.ΚΟΡΙΝΘΟΥ)","-","ΣΗΜΑΙΟΦΟΡΙΔΗΣ Χ (ΠΕΥΚΗ-Γ.ΚΑΛΟΒΕΛΩΝΗΣ)"]
[null,"Α14","ΝΤΑΝΤΙΝΗΣ Α (Α.Ε.Τ.ΝΙΚΗ ΠΑΤΡΩΝ)","-","ΑΝΤΩΝΟΠΟΥΛΟΣ Χ (Ο.Α.ΚΕΡΑΤΣΙΝΙΟΥ)"]
[]
[]
[]
[]
[]
[]
[]
[" "]

{"sheet":"MyProgram","index":6,"n_rows":20,"n_cols":5,"rows_kept":20,"cut":false,"hidden":false,"merged":[]}
["Η' ΕΝΩΣΗ, 3ο Ενωσιακό, Αττικός Ήλιος (Α14)"]
["Ντ.Πατσουράκου, 6934 306004"]
["Πρόγραμμα αγώνων",null,null,null,"Round 3"]
["ΩΡΑ","Κτγρ.","Αθλητής-Σύλλογος",null,"Αθλητής-Σύλλογος"]
["Έναρξη"]
[]
[]
[]
[]
["όχι πριν"]
[]
[]
[]
[]
["όχι πριν"]
[]
[]
[]
[]
[" "]

{"sheet":"DrawPoints","index":7,"n_rows":4,"n_cols":6,"rows_kept":4,"cut":false,"hidden":false,"merged":[]}
[]
["17-32","9-16","5-8","3-4","2","1"]
[1,3,7,10,15,20]
[1,2,4,3,5,5]

{"sheet":"tmp","index":8,"n_rows":33,"n_cols":7,"rows_kept":33,"cut":false,"hidden":false,"merged":[]}
["α/α","seed","ByeOrder",null,"RndIndx","random","FixRandom"]
[1,1,null,null,1,{"$f":"RAND()/22","v":5.8600797434873149E-3},1.6215289147913745E-2]
[2,null,1,null,2,{"$f":"RAND()/22","v":9.729849622957561E-3},2.9054446509792765E-2]
[3,null,null,null,3,1.6914152386155137E-2,2.5913243203293732E-2]
[4,null,15,null,4,8.3883103681025931E-3,3.8712929443335202E-2]
[5,null,null,null,5,1.5689930097558428E-2,2.3217769559251821E-2]
[6,null,9,null,6,4.1411849887947556E-2,3.1148422079462966E-2]
[7,null,5,null,7,1.0125224960626763E-2,4.4894678391243163E-2]
[8,5,null,null,8,8.5217804393601486E-3,1.8502872256740265E-2]
[9,3,null,null,9,1.0196504872813024E-2,3.7856303967294801E-2]
[10,null,3,null,10,3.0327953948264232E-2,1.0351623053258813E-2]
[11,null,null,null,11,1.3978460702607075E-2,5.9711058452536622E-3]
[12,null,13,null,12,2.7121771111700624E-2,1.3395595752166811E-2]
[13,null,null,null,13,1.7003271941808496E-2,1.7506541044345646E-2]
[14,null,11,null,14,7.9352678435665944E-3,1.9711008413133668E-2]
[15,null,7,null,15,1.2644602847397136E-2,4.2987857657604989E-2]
[16,6,null,null,16,2.6813550111871042E-2,3.3128361480020546E-2]
[17,7,null,null,17,1.7252530749452745E-3,3.6398581609082218E-5]
[18,null,6,null,18,1.3615820105810588E-2,2.9312704000919232E-2]
[19,null,null,null,19,1.8737398749525267E-2,3.3994001815258607E-2]
[20,null,12,null,20,3.5402268331421259E-2,2.8863288859788706E-2]
[21,null,null,null,21,3.2192747861528065E-2,4.4348162347311253E-2]
[22,null,14,null,22,4.4168018247676195E-2,6.5396910769186722E-3]
[23,null,4,null,23,4.1691133146528433E-2,8.7512342666538068E-3]
[24,4,null,null,24,5.6044403159637487E-3,4.5041637121514544E-3]
[25,8,null,null,25,3.6120601153213157E-4,2.2717470106056195E-2]
[26,null,8,null,26,1.3361249883126576E-2,2.5563353637187855E-2]
[27,null,null,null,27,2.4615124290855064E-2,2.3209090175693427E-2]
[28,null,10,null,28,3.4590906555663872E-4,1.8819059644645433E-2]
[29,null,null,null,29,1.1840435535128379E-2,1.149720017811966E-2]
[30,null,16,null,30,4.3835926445166672E-2,2.0254108771849359E-2]
[31,null,2,null,31,2.71973365532681E-3,2.9276407447006117E-2]
[32,2,null,null,32,3.4479004057013068E-2,3.6982844399036423E-2]

{"sheet":"tmpRankings","index":9,"n_rows":203,"n_cols":7,"rows_kept":203,"cut":false,"hidden":false,"merged":[]}
["ΑΜ","Ονοματεπώνυμο","Γεν.","Σύλλογος","Βαθμ"]
[25438,"ΤΣΙΤΣΙΠΑΣ ΣΤΕΦΑΝΟΣ",1998,"Ο.Α.ΓΛΥΦΑΔΑΣ",190,null,"=VLOOKUP(c3;tmpRankings!$A$2:$E$251;5;FALSE)"]
[23775,"ΑΝΤΩΝΟΠΟΥΛΟΣ ΧΡΗΣΤΟΣ",1998,"Ο.Α.ΚΕΡΑΤΣΙΝΙΟΥ",180]
[25875,"ΛΑΖΑΡΙΔΗΣ ΚΩΝΣΤΑΝΤΙΝΟΣ",1998,"Ε.Σ.Ο.ΕΠΙΚΟΥΡΟΣ ΠΟΛΙΧΝΗΣ",160]
[24845,"ΗΛΙΟΠΟΥΛΟΣ ΒΑΣΙΛΗΣ",1998,"Α.Ο.Α.ΦΙΛΟΘΕΗΣ",140]
[23517,"ΤΣΙΡΑΝΙΔΗΣ ΕΥΣΤΑΘΙΟΣ",1998,"Ο.Α.ΤΟΥΜΠΑΣ",140]
[25297,"ΚΑΠΙΡΗΣ ΣΤΑΜΑΤΗΣ",1999,"Α.Ο.Α.ΦΙΛΟΘΕΗΣ",61]
[26190,"ΑΝΔΡΩΝΗΣ ΙΩΑΝΝΗΣ",1999,"Ο.Α.ΑΓΙΑΣ ΠΑΡΑΣΚΕΥΗΣ",60]
[22866,"ΚΟΝΤΟΠΟΥΛΟΣ ΘΕΟΦΑΝΗΣ",1998,"Ο.Α.ΚΟΡΙΝΘΟΥ",60]
[25296,"ΣΠΑΘΗΣ ΜΑΡΙΝΟΣ",1998,"Α.Ο.Α.ΗΛΙΟΥΠΟΛΗΣ",60]
[24516,"ΒΟΪΝΕΑ ΑΛΕΞΑΝΔΡΟΣ",1998,"Ο.Α.ΒΟΥΛΙΑΓΜΕΝΗΣ ΜΙΚΡΟΙ ΑΣΣΟΙ",58]
[26317,"ΚΩΣΤΑΡΑΣ ΠΑΝΑΓΙΩΤΗΣ",1999,"Ο.Α.ΠΕΤΡΟΥΠΟΛΗΣ",58]
[26297,"ΑΓΙΟΥΣ ΓΕΩΡΓΙΟΣ",1999,"ΚΕΡΚΥΡΑΪΚΗ Λ.Τ.",56]
[23040,"ΚΑΤΣΑΛΗΣ ΚΩΝΣΤΑΝΤΙΝΟΣ",1998,"Α.Σ.Α.ΛΑΡΙΣΑΣ",55]
[30054,"ΣΑΚΕΛΛΑΡΙΔΗΣ ΜΙΧΑΛΗΣ",2001,"Ο.Α.ΑΓΙΑΣ ΠΑΡΑΣΚΕΥΗΣ",53]
[28396,"ΛΑΜΠΡΟΠΟΥΛΟΣ ΙΟΒΑΝ-ΑΛΕΞΑΝΤΕΡ",2000,"Ο.Α.ΒΟΥΛΙΑΓΜΕΝΗΣ ΜΙΚΡΟΙ ΑΣΣΟΙ",49]
[30186,"ΠΙΤΣΙΝΗΣ ΔΗΜΗΤΡΙΟΣ",1999,"Ο.Α.ΧΑΛΚΙΔΑΣ",48]
[26389,"ΒΑΡΔΑΚΗΣ ΒΑΣΙΛΕΙΟΣ",1999,"ΑΚΑΔ.ΑΝΤΙΣΦ.ΙΩΑΝΝΙΝΩΝ",46]
[24511,"ΙΩΑΝΝΙΔΗΣ ΝΙΚΟΛΑΟΣ",1998,"Α.Ο.Α.ΦΙΛΟΘΕΗΣ",46]
[26478,"ΚΗΠΟΥΡΟΣ ΣΤΑΥΡΟΣ",1998,"Ο.Α.ΧΑΝΙΩΝ",46]
[27180,"ΣΤΑΥΡΑΚΑΣ ΜΙΝΩΣ-ΚΙΜΩΝ",1998,"Α.Ο.Α.ΦΙΛΟΘΕΗΣ",43]
[26914,"ΒΡΑΝΑΣ ΘΕΜΗΣ",1998,"Α.Ο.Α.ΦΙΛΟΘΕΗΣ",41]
[28144,"ΚΑΛΑΜΠΑΚΑΣ ΑΝΑΣΤΑΣΙΟΣ",1998,"Α.Σ.Α.ΛΑΡΙΣΑΣ",41]
[27583,"ΠΑΧΑΚΗΣ ΝΙΚΟΛΑΟΣ-ΑΝΔΡΕΑΣ",1999,"Α.Ο.Α.ΗΛΙΟΥΠΟΛΗΣ",41]
[28285,"ΠΗΛΙΟΥΝΗΣ ΜΙΧΑΗΛ",1999,"Ο.Α.ΒΟΥΛΙΑΓΜΕΝΗΣ ΜΙΚΡΟΙ ΑΣΣΟΙ",41]
[24115,"ΝΤΑΝΤΙΝΗΣ ΑΓΓΕΛΟΣ",1999,"Α.Ε.Τ.ΝΙΚΗ ΠΑΤΡΩΝ",39]
[29274,"ΣΗΜΑΙΟΦΟΡΙΔΗΣ ΧΑΡΑΛΑΜΠΟΣ",1999,"ΠΕΥΚΗ-Γ.ΚΑΛΟΒΕΛΩΝΗΣ",38]
[26385,"ΒΟΥΛΓΑΡΑΚΗΣ ΕΛΕΥΘΕΡΙΟΣ",1998,"Ο.Α.ΣΟΥΔΑΣ",36]
[22876,"ΓΕΡΟΥΚΗΣ ΒΑΣΙΛΕΙΟΣ",1998,"Ο.Α.ΝΙΚΑΙΑ ΛΑΡΙΣΑΣ",34]
[27398,"ΚΟΤΣΑΡΙΝΗΣ ΒΑΣΙΛΕΙΟΣ",1999,"Α.Γ.Ο.ΦΙΛΙΠΠΙΑΔΑΣ",31.8]
[27874,"ΒΛΑΧΟΝΙΚΟΛΟΣ ΠΑΝΑΓΙΩΤΗΣ",1998,"ΡΟΔΙΑΚΟΣ Ο.Α.",31]
[22656,"ΤΖΩΡΤΖΟΣ ΣΤΑΥΡΟΣ",1999,"Α.Ο.Α.ΣΤΑΥΡΟΥΠΟΛΗΣ ΙΦΙΤΟΣ",31]
[27879,"ΚΙΣΣΑΣ ΧΡΗΣΤΟΣ-ΕΥΑΓΓΕΛΟΣ",1998,"Α.Ο.ΣΙΚΥΩΝΟΣ ΚΙΑΤΟΥ",29]
[28357,"ΕΞΙΖΙΔΗΣ-ΜΑΓΙΕΡ ΤΕΪΛΟΡ",1999,"Ο.Α.ΑΛΕΞΑΝΔΡΟΣ ΒΕΡΟΙΑΣ",27]
[26191,"ΚΑΖΑΝΑΣ ΙΩΑΝΝΗΣ",1999,"Ο.Α.ΓΛΥΦΑΔΑΣ",27]
[29651,"ΝΙΚΟΛΑΚΑΚΗΣ ΙΩΑΝΝΗΣ",1998,"ΗΡΑΚΛΕΙΟ Ο.Α.& Α.",26]
[26859,"ΣΙΟΝΤΗΣ ΒΑΣΙΛΕΙΟΣ",1999,"ΑΚΑΔ.ΑΝΤΙΣΦ.ΙΩΑΝΝΙΝΩΝ",26]
[23091,"ΝΙΚΟΛΟΥΛΗΣ ΚΩΝΣΤΑΝΤΙΝΟΣ",1998,"Ο.Α.ΝΙΚΑΙΑ ΛΑΡΙΣΑΣ",24]
[26836,"ΦΟΥΖΑΣ ΑΝΑΣΤΑΣΙΟΣ",1999,"Α.Ο.ΣΙΚΥΩΝΟΣ ΚΙΑΤΟΥ",23.5]
[24506,"ΖΙΩΓΑΣ ΑΛΕΞΑΝΔΡΟΣ",1998,"Ο.Α.ΑΡΤΑΣ",23]
[26459,"ΝΑΟΥΜ ΣΠΥΡΙΔΩΝ",1999,"Ο.Α.ΧΑΝΙΩΝ",19.5]
[29817,"ΝΙΑΡΧΟΣ ΝΙΚΗΤΑΣ",1999,"Ο.Α.ΑΘΛΗΤΙΚΗ ΠΑΙΔΕΙΑ",15]
[26507,"ΜΑΓΚΛΑΡΑΣ ΕΥΑΓΓΕΛΟΣ",1999,"Α.Γ.Ο.ΦΙΛΙΠΠΙΑΔΑΣ",14.8]
[25238,"ΤΖΕΛΑΤΗΣ ΣΤΕΦΑΝΟΣ",1998,"Α.Κ.Α.ΜΑΡΑΘΩΝΑ",14.8]
[26075,"ΒΙΝΙΕΡΑΤΟΣ ΕΛΕΥΘΕΡΙΟΣ",1998,"Ο.Α.ΠΕΤΡΟΥΠΟΛΗΣ",14.5]
[27504,"ΓΙΟΒΑΝΗΣ ΓΕΩΡΓΙΟΣ",1998,"Α.Ο.Α.ΠΑΤΡΩΝ",14]
[25295,"ΣΒΗΓΚΑΣ ΠΑΝΑΓΙΩΤΗΣ",1998,"Α.Ο.Α.ΗΛΙΟΥΠΟΛΗΣ",14]
[25828,"ΣΧΟΙΝΟΠΛΟΚΑΚΗΣ ΚΩΝΣΤΑΝΤΙΝΟΣ",1998,"Ο.Α.ΧΑΝΙΩΝ",14]
[29615,"ΚΛΑΔΕΥΤΗΡΑΣ ΦΩΤΗΣ",1998,"Ο.Α.ΠΕΤΡΟΥΠΟΛΗΣ",11.8]
[25395,"ΧΑΡΙΤΩΝΙΔΗΣ ΧΑΡΙΤΩΝ",1998,"Α.Ο.ΑΡΓΥΡΟΥΠΟΛΗΣ",10.5]
[24168,"ΜΙΧΑΗΛΟΣ ΣΤΕΦΑΝΟΣ",1998,"ΗΡΑΚΛΕΙΟ Ο.Α.& Α.",4]
[26457,"ΑΡΕΤΑΚΗΣ ΙΩΑΝΝΗΣ",1999,"Ο.Α.ΧΑΝΙΩΝ",3]
[28337,"ΚΑΪΜΑΡΑΣ ΧΡΗΣΤΟΣ",1999,"Α.Κ.Α.ΜΑΡΑΘΩΝΑ",3]
[30898,"ΜΠΑΝΤΗΛΑΣ ΓΕΩΡΓΙΟΣ",1999,"ΠΕΥΚΗ-Γ.ΚΑΛΟΒΕΛΩΝΗΣ",2.8]
[26976,"ΜΥΛΩΝΑΣ ΑΠΟΣΤΟΛΟΣ",1999,"ΠΕΥΚΗ-Γ.ΚΑΛΟΒΕΛΩΝΗΣ",2.8]
[28689,"ΚΑΛΛΙΤΣΗΣ ΚΩΝΣΤΑΝΤΙΝΟΣ",1999,"Ο.Α.ΠΕΤΡΟΥΠΟΛΗΣ",2.6]
[23093,"ΚΑΛΔΕΡΩΝ ΖΑΚ",1998,"Ο.Α.ΝΙΚΑΙΑ ΛΑΡΙΣΑΣ",2.5]
[29711,"ΜΠΙΛΛΗΣ ΑΘΑΝΑΣΙΟΣ",1999,"ΡΟΔΙΑΚΟΣ Ο.Α.",2.5]
[30018,"ΣΠΗΛΙΩΤΟΠΟΥΛΟΣ ΑΓΓΕΛΟΣ",1999,"Ο.Α.ΠΕΤΡΟΥΠΟΛΗΣ",2.5]
[24340,"ΧΟΝΔΡΟΣ ΙΑΣΩΝ-ΣΤΥΛΙΑΝΟΣ",1999,"Ο.Α.ΚΕΡΑΤΣΙΝΙΟΥ",2.5]
[28259,"ΝΙΚΟΛΑΚΟΠΟΥΛΟΣ ΒΑΣΙΛΕΙΟΣ",1999,"Σ.Α.ΣΕΡΡΩΝ",24]
[25492,"ΜΠΟΥΡΤΖΑΛΑΣ ΗΛΙΑΣ-ΜΑΡΙΟΣ",1998,"ΦΘΙΩΤΙΚΟΣ Ο.Α.",2]
[25862,"ΓΑΒΡΑΣ ΚΥΡΙΑΚΟΣ",1998,"Ο.Α.ΑΛΕΞΑΝΔΡΟΣ ΒΕΡΟΙΑΣ",1.8]
[26547,"ΚΟΚΟΤΣΑΚΗΣ ΑΛΚΙΝΟΟΣ",1999,"Α.Ο.Α.ΗΛΙΟΥΠΟΛΗΣ",18]
[29502,"ΠΑΤΕΡΑΣ ΔΙΑΜΑΝΤΗΣ",1999,"Ο.Α.ΑΝΑΦΛΥΣΤΟΣ ΣΑΡΩΝΙΔΑΣ",18]
[28013,"ΣΠΕΝΤΖΟΣ ΧΡΗΣΤΟΣ",1998,"Ο.Α.ΒΡΙΛΗΣΣΙΩΝ",1.8]
[27656,"ΝΑΣΙΟΠΟΥΛΟΣ ΓΕΩΡΓΙΟΣ",1999,"Α.Ο.Α.ΠΑΠΑΓΟΥ",1.6]
[24107,"ΚΟΥΣΤΕΡΙΔΗΣ ΡΑΦΑΗΛ",1998,"Ο.Α.ΕΥΟΣΜΟΥ ΘΕΣΣΑΛΟΝΙΚΗΣ",1.5]
[28931,"ΚΟΥΤΣΟΓΙΑΝΝΗΣ ΑΝΔΡΕΑΣ",1999,"Ο.Α.ΜΑΓΝΗΣΙΑΣ",1.5]
[25408,"ΠΑΠΑΦΙΛΙΠΠΟΥ ΔΑΜΙΑΝΟΣ",1998,"Ο.Α.ΚΑΣΤΟΡΙΑΣ ΚΕΛΕΤΡΟΝ",1.5]
[25502,"ΣΩΤΗΡΟΠΟΥΛΟΣ ΔΗΜΗΤΡΙΟΣ",1999,"Ο.Α.ΜΑΓΝΗΣΙΑΣ",1.5]
[26893,"ΤΑΞΙΑΡΧΟΥ ΠΟΛΥΧΡΟΝΙΟΣ",1999,"ΦΘΙΩΤΙΚΟΣ Ο.Α.",15]
[90116,"ΑΜΜΕΡΜΑΝ ΣΤΕΦΑΝΟΣ",1998,"Ο.Α.ΑΘΛΗΤΙΚΗ ΠΑΙΔΕΙΑ",1.3]
[26338,"ΚΥΡΙΑΚΑΚΗΣ-ΜΕΣΣΑΡΙΤΑΚΗΣ ΓΕΩΡΓΙΟΣ",1999,"ΗΡΑΚΛΕΙΟ Ο.Α.& Α.",13]
[27655,"ΜΠΑΓΟΡΔΑΚΗΣ ΟΔΥΣΣΕΑΣ",1999,"Ο.Α.ΣΗΤΕΙΑΣ",13]
[27013,"ΜΠΕΓΝΗΣ ΧΡΗΣΤΟΣ",1998,"Ο.Α.ΣΑΛΑΜΙΝΑΣ",13]
[27029,"ΠΑΠΑΓΙΑΝΝΗΣ ΑΝΑΣΤΑΣΙΟΣ",1998,"Ο.Α.ΣΑΛΑΜΙΝΑΣ",13]
[27668,"ΤΑΜΠΑΚΗΣ ΘΕΟΧΑΡΗΣ",1999,"Ο.Α.ΚΕΡΑΤΣΙΝΙΟΥ",13]
[26427,"ΦΡΙΣΗΡΑΣ ΣΤΕΦΑΝΟΣ",1999,"Ο.Α.ΒΡΙΛΗΣΣΙΩΝ",13]
[27383,"ΧΑΤΖΗΣ ΣΤΕΦΑΝΟΣ-ΡΑΦΑΗΛ",1999,"Α.Ε.ΠΟΡΤΟ ΡΑΦΤΗ",1.3]
[26078,"ΑΛΕΞΑΝΔΡΗΣ ΕΥΣΤΑΘΙΟΣ",1998,"Α.Ο.Π.ΦΑΛΗΡΟΥ",1]
[32148,"ΓΑΛΑΤΙΑΝΟΣ ΗΛΙΑΣ",1999,"Α.Ο.ΚΑΛΛΙΤΕΧΝΟΥΠΟΛΗΣ",1]
[28590,"ΓΚΑΛΤΣΙΔΗΣ ΧΡΗΣΤΟΣ",1999,"Α.Ο.Α.ΣΤΑΥΡΟΥΠΟΛΗΣ ΙΦΙΤΟΣ",1]
[30125,"ΘΕΟΔΩΡΙΔΗΣ ΘΕΟΦΙΛΟΣ",1998,"Α.Α.ΑΛΜΠΑΤΡΟΣ",1]
[29258,"ΜΠΑΛΤΑΓΙΑΝΝΗΣ ΝΙΚΟΛΑΟΣ",1999,"Ο.Α.ΝΙΚΑΙΑ ΛΑΡΙΣΑΣ",1]
[25532,"ΝΙΚΟΛΟΠΟΥΛΟΣ ΝΙΚΟΛΑΟΣ",1998,"Α.Ο.Α.ΠΑΤΡΩΝ",1]
[24780,"ΣΑΡΓΟΣ ΑΛΕΞΑΝΔΡΟΣ",1998,"ΕΘΝΙΚΟΣ ΠΑΝΟΡΑΜΑΤΟΣ",1]
[28165,"ΣΕΛΙΒΑΝΩΦ ΠΑΥΛΟΣ-ΣΤΕΡΓΙΟΣ",1998,"Ο.Α.ΘΕΣΣΑΛΟΝΙΚΗΣ",1]
[26800,"ΣΤΟΪΔΗΣ ΝΙΚΟΛΑΟΣ-ΝΙΚΗΦΟΡΟΣ",1999,"Μ.Γ.Σ.ΑΠΟΛΛΩΝ ΚΑΛΑΜΑΡΙΑΣ",1]
[32359,"ΣΩΜΑΡΑΚΗΣ ΑΡΙΣΤΟΤΕΛΗΣ",1999,"Α.Σ.ΑΚΑΔΗΜΙΕΣ ΠΡΩΤ/ΤΩΝ",1]
[24329,"ΤΖΙΑΣΤΟΥΔΗΣ ΧΡΗΣΤΟΣ",1999,"Ο.Α.ΝΙΚΑΙΑ ΛΑΡΙΣΑΣ",1]
[25831,"ΧΑΤΖΟΠΟΥΛΟΣ ΚΩΝΣΤΑΝΤΙΝΟΣ",1999,"Ο.Α.ΒΟΛΟΥ",1]
[32459,"ΑΓΓΕΛΟΠΟΥΛΟΣ ΙΩΑΝΝΗΣ-ΒΛΑΣΙΟΣ",1999,"Α.Ο.Π.ΦΑΛΗΡΟΥ",0.8]
[26875,"ΓΕΩΡΓΑΚΟΠΟΥΛΟΣ ΑΡΗΣ",1999,"Γ.Ο.ΠΕΡΙΣΤΕΡΙΟΥ Γ.ΠΑΛΑΣΚΑΣ",0.8]
[31171,"ΔΗΜΗΤΡΑΚΗΣ ΙΩΑΝΝΗΣ",1998,"ΡΟΔΙΑΚΗ ΑΚΑΔ.ΑΝΤΙΣΦ.",8]
[27236,"ΚΑΤΣΑΓΚΟΛΗΣ ΑΣΤΕΡΙΟΣ",1998,"Γ.Σ.ΛΙΒΥΚΟΣ ΙΕΡΑΠΕΤΡΑΣ",8]
[30944,"ΚΟΝΤΟΓΙΩΡΓΑΚΗΣ ΙΩΑΝΝΗΣ",1999,"Ο.Α.ΣΗΤΕΙΑΣ",8]
[29577,"ΚΟΣΜΑΣ ΑΡΙΣΤΕΙΔΗΣ",1998,"ΕΘΝΙΚΟΣ ΠΑΝΟΡΑΜΑΤΟΣ",8]
[30064,"ΚΟΥΚΟΥΛΙΘΡΑΣ ΙΩΑΝΝΗΣ",1999,"Ο.Α.ΧΑΛΚΙΔΑΣ",8]
[26345,"ΚΟΥΡΔΟΓΛΟΥ ΓΕΩΡΓΙΟΣ",1998,"Μ.Α.Σ.ΑΕΤΟΣ ΘΕΣΣΑΛΟΝΙΚΗΣ",8]
[24567,"ΛΕΩΝΙΔΗΣ ΠΑΤΡΙΚ",1998,"Ο.Α.ΑΝΑΦΛΥΣΤΟΣ ΣΑΡΩΝΙΔΑΣ",0.8]
[26230,"ΜΑΝΟΥΣΑΚΗΣ ΚΥΡΙΑΚΟΣ",1999,"ΗΡΑΚΛΕΙΟ Ο.Α.& Α.",8]
[24772,"ΜΑΡΚΟΓΙΑΝΝΑΚΗΣ ΚΩΝΣΤΑΝΤΙΝΟΣ",1998,"Ο.Α.ΡΕΘΥΜΝΟΥ",8]
[30895,"ΜΑΡΝΕΛΛΟΣ ΙΩΣΗΦ",1999,"Α.Ο.ΛΑΤΩ ΑΓ.ΝΙΚΟΛΑΟΥ",8]
[24301,"ΜΠΑΛΤΖΟΓΛΟΥ ΚΩΝΣΤΑΝΤΙΝΟΣ",1998,"Ο.Α.ΚΟΡΙΝΘΟΥ",0.8]
[90060,"ΜΠΙΟΡΑΤΣ ΜΠΟΡΚΟ",1999,"Ο.Α.ΡΕΘΥΜΝΟΥ",8]
[28024,"ΜΥΛΩΝΟΠΟΥΛΟΣ ΟΕΟΔΩΡΟΣ",1999,"ΦΙΛΑΘΛ.ΟΜΙΛΟΣ ΠΥΡΓΟΥ",0.8]
[30185,"ΝΕΡΟΥΤΣΟΣ ΔΗΜΗΤΡΙΟΣ",1999,"Ο.Α.ΧΑΛΚΙΔΑΣ",8]
[27875,"ΠΑΡΙΣΣΗΣ ΕΥΑΓΓΕΛΟΣ",1999,"ΡΟΔΙΑΚΟΣ Ο.Α.",8]
[30187,"ΡΟΥΣΟΠΟΥΛΟΣ ΙΩΑΝΝΗΣ",1998,"Ο.Α.ΧΑΛΚΙΔΑΣ",0.8]
[29664,"ΣΑΧΠΑΤΖΙΔΗΣ ΓΕΩΡΓΙΟΣ",1998,"Ο.Α.ΝΕΣΤΩΡΑΣ ΓΙΑΝΝΙΤΣΩΝ",8]
[24501,"ΣΠΥΡΟΣ ΓΕΩΡΓΙΟΣ",1998,"Ο.Α.ΑΡΤΑΣ",8]
[26172,"ΣΤΑΥΡΟΥΛΑΚΗΣ ΓΕΩΡΓΙΟΣ",1999,"ΗΡΑΚΛΕΙΟ Ο.Α.& Α.",8]
[30398,"ΤΣΕΚΟΥΡΑΣ ΚΩΝΣΤΑΝΤΙΝΟΣ",1999,"Ο.Α.ΧΑΛΚΙΔΑΣ",8]
[28192,"ΑΛΕΞΑΝΔΡΙΔΗΣ ΧΑΡΑΛΑΜΠΟΣ",1999,"Σ.Α.ΣΕΡΡΩΝ",5]
[26897,"ΑΝΑΣΤΑΣΙΟΥ ΚΩΝΣΤΑΝΤΙΝΟΣ",1999,"ΦΘΙΩΤΙΚΟΣ Ο.Α.",5]
[31250,"ΒΙΛΔΙΡΙΔΗΣ ΝΙΚΗΤΑΣ",1998,"Ο.Α.ΤΟΥΜΠΑΣ",5]
[31249,"ΒΙΛΔΙΡΙΔΗΣ ΙΩΑΝΝΗΣ",1999,"Ο.Α.ΤΟΥΜΠΑΣ",5]
[32318,"ΓΕΡΑΡΔΗΣ ΕΜΜΑΝΟΥΗΛ",1998,"Ο.Α.ΠΕΤΡΟΥΠΟΛΗΣ",5]
[29542,"ΓΕΩΡΓΙΟΥ ΑΛΕΞΑΝΔΡΟΣ",1998,"Ο.Α.ΣΟΦΑΔΩΝ ΚΑΡΔΙΤΣΑΣ",5]
[90097,"ΓΚΡΑΤΣΙΟΖΙ ΜΑΞΙΜ",1999,"Ο.Α.ΤΟΥΜΠΑΣ",5]
[27171,"ΓΡΗΓΟΡΑΤΟΣ ΧΑΡΑΛΑΜΠΟΣ",1998,"Α.Ο.Α.ΗΛΙΟΥΠΟΛΗΣ",5]
[32795,"ΔΕΛΗΜΠΑΛΤΑΣ ΟΕΟΔΩΡΟΣ",1998,"Α.Ο.ΑΤΡΟΜΗΤΟΣ ΤΡΙΑΔΙΟΥ",5]
[32294,"ΔΡΙΒΑΣ ΧΑΡΑΛΑΜΠΟΣ",1999,"Α.Ο.ΚΑΛΛΙΤΕΧΝΟΥΠΟΛΗΣ",5]
[26505,"ΖΑΝΙΚΑΣ ΠΑΥΛΟΣ",1999,"Α.Γ.Ο.ΦΙΛΙΠΠΙΑΔΑΣ",5]
[25119,"ΘΕΟΛΟΓΗΣ ΔΗΜΗΤΡΙΟΣ",1998,"Ο.Α.ΣΟΦΑΔΩΝ ΚΑΡΔΙΤΣΑΣ",5]
[27939,"ΚΑΡΑΚΑΤΣΑΝΗΣ ΑΛΕΞΑΝΔΡΟΣ-ΙΩΑΝΝΗΣ",1998,"Α.Ο.Α.ΗΛΙΟΥΠΟΛΗΣ",5]
[28512,"ΚΑΡΑΜΗΤΡΟΥΣΗΣ ΑΝΤΩΝΙΟΣ",1999,"Α.Ο.Α.ΠΟΣΕΙΔΩΝ ΘΕΣΣΑΛΟΝΙΚΗΣ",5]
[31863,"ΚΑΡΑΜΠΑΣΗΣ ΒΑΣΙΛΕΙΟΣ",1998,"Μ.Γ.Σ.ΑΠΟΛΛΩΝ ΚΑΛΑΜΑΡΙΑΣ",5]
[27785,"ΚΑΡΒΕΛΑΣ ΣΩΤΗΡΗΣ",1999,"Α.Σ.ΟΛΥΜΠΙΑΚΟΥ ΧΩΡΙΟΥ",5]
[26983,"ΚΑΤΑΠΟΔΗΣ ΔΗΜΗΤΡΗΣ",1999,"Α.Ο.Α.ΑΤΤΙΚΟΣ ΗΛΙΟΣ",5]
[29450,"ΚΟΖΥΡΑΚΗΣ ΦΩΤΙΟΣ",1998,"Α.Σ.Ε.ΘΗΣΕΑΣ ΑΓΙΟΥ ΔΗΜΗΤΡΙΟΥ",5]
[24585,"ΚΟΥΡΟΥΠΗΣ ΜΑΡΙΝΟΣ",1998,"Σ.Α.ΓΑΛΑΤΣΙΟΥ",5]
[32408,"ΚΟΥΤΕΛΙΔΑΣ ΣΤΕΦΑΝΟΣ",1999,"Ο.Α.ΤΡΙΚΑΛΩΝ",5]
[28243,"ΚΡΑΣΟΥΔΑΚΗΣ ΙΩΑΝΝΗΣ-ΓΕΩΡΓΙΟΣ",1999,"Ο.Α.ΧΑΝΙΩΝ",5]
[31335,"ΛΑΖΑΡΙΔΗΣ ΓΕΩΡΓΙΟΣ-ΑΛΕΞΑΝΔΡΟΣ",1999,"Φ.Ο.Α.ΝΕΑΠΟΛΗΣ",5]
[25930,"ΛΑΣΚΑΡΑΤΟΣ ΑΧΙΛΛΕΑΣ",1998,"Α.Ο.Π.ΦΑΛΗΡΟΥ",5]
[28792,"ΛΟΥΛΑΚΗΣ ΘΕΟΧΑΡΗΣ",1999,"Α.Ο.Α.ΠΑΠΑΓΟΥ",5]
[24530,"ΜΑΥΡΟΓΑΛΟΣ ΑΝΔΡΕΑΣ",1998,"ΠΕΥΚΗ-Γ.ΚΑΛΟΒΕΛΩΝΗΣ",5]
[31591,"ΜΠΑΡΤΖΟΣ-ΝΑΖΙΡΗΣ ΑΛΕΞΑΝΔΡΟΣ",1999,"Α.Ο.ΑΤΡΟΜΗΤΟΣ ΤΡΙΑΔΙΟΥ",5]
[32707,"ΜΠΕΛΛΟΣ ΠΕΤΡΟΣ",1998,"Ο.Α.ΑΓΙΑΣ ΠΑΡΑΣΚΕΥΗΣ",5]
[28976,"ΝΙΚΟΛΑΪΔΗΣ ΦΟΙΒΟΣ",1999,"Ο.Α.ΑΝΑΦΛΥΣΤΟΣ ΣΑΡΩΝΙΔΑΣ",5]
[28174,"ΠΑΚΑΣ ΜΑΡΚΟΣ",1999,"Ο.Α.ΑΓΙΑΣ ΠΑΡΑΣΚΕΥΗΣ",5]
[32387,"ΠΑΝΑΓΙΩΤΑΚΟΠΟΥΛΟΣ ΜΑΡΙΟΣ",1999,"Σ.Α.ΓΑΛΑΤΣΙΟΥ",5]
[31388,"ΠΑΠΑΓΕΩΡΓΙΟΥ ΓΕΩΡΓΙΟΣ",1999,"Ο.Α.ΒΟΛΟΥ",5]
[31830,"ΠΑΠΑΪΩΑΝΝΟΥ ΑΝΤΩΝΙΟΣ",1999,"Α.Ο.ΑΤΡΟΜΗΤΟΣ ΤΡΙΑΔΙΟΥ",5]
[32382,"ΠΕΠΠΑΣ ΓΕΩΡΓΙΟΣ",1998,"Σ.Α.ΓΑΛΑΤΣΙΟΥ",5]
[24307,"ΠΛΕΣΙΑΣ ΧΡΗΣΤΟΣ",1998,"Ο.Α.ΘΕΣΣΑΛΟΝΙΚΗΣ",5]
[29607,"ΠΟΥΛΗΣ ΣΤΡΑΤΗΣ",1998,"Α.Σ.Ε.ΘΗΣΕΑΣ ΑΓΙΟΥ ΔΗΜΗΤΡΙΟΥ",5]
[25046,"ΣΑΡΑΜΑΝΤΙΤΣ ΠΑΥΛΟΣ",1999,"Ο.Α.ΕΥΟΣΜΟΥ ΘΕΣΣΑΛΟΝΙΚΗΣ",5]
[30560,"ΣΟΦΗΣ ΝΙΚΟΛΑΟΣ",1999,"Α.Ο.Α.ΠΑΤΡΩΝ",5]
[28981,"ΤΖΑΒΑΡΑΣ ΑΝΔΡΕΑΣ",1999,"Α.Ο.Α.ΠΑΤΡΩΝ",5]
[22842,"ΤΣΑΡΚΝΙΑΣ ΣΤΕΡΓΙΟΣ",1999,"Ο.Α.ΑΡΙΔΑΙΑΣ",5]
[23491,"ΤΣΑΡΚΝΙΑΣ ΝΙΚΟΛΑΟΣ",1998,"Ο.Α.ΑΡΙΔΑΙΑΣ",5]
[28769,"ΤΣΕΡΙΩΤΗΣ ΑΔΩΝΙΣ-ΜΑΡΙΟΣ",1999,"Ο.Α.ΑΝΑΦΛΥΣΤΟΣ ΣΑΡΩΝΙΔΑΣ",5]
[28467,"ΧΑΤΖΗΝΙΚΟΛΑΟΥ ΝΙΚΟΣ",1999,"Ο.Α.ΤΟΥΜΠΑΣ",5]
[28468,"ΧΑΤΖΗΝΙΚΟΛΑΟΥ ΕΥΡΙΠΙΔΗΣ",1999,"Ο.Α.ΤΟΥΜΠΑΣ",5]
[27108,"ΔΕΛΗΣ ΚΩΝΣΤΑΝΤΙΝΟΣ",1999,"Α.Ε.Κ.ΤΡΙΠΟΛΗΣ",0]
[26837,"ΖΟΥΜΑΣ ΚΩΝΣΤΑΝΤΙΝΟΣ",1998,"Α.Ο.ΣΙΚΥΩΝΟΣ ΚΙΑΤΟΥ",0]
[24547,"ΜΑΝΕΚΑΣ ΑΘΑΝΑΣΙΟΣ",1998,"Ο.Α.ΙΩΑΝΝΙΝΩΝ",0]
[31302,"ΜΑΝΤΕΣΗΣ ΜΑΡΙΟΣ",1999,"Ο.Α.ΠΕΤΡΟΥΠΟΛΗΣ",0]
[28378,"ΜΟΥΣΑΣ ΔΗΜΟΣΘΕΝΗΣ",1999,"Α.Ο.Α.ΦΙΛΟΘΕΗΣ",0]
[25351,"ΔΙΑΜΑΝΤΟΠΟΥΛΟΣ ΓΙΩΡΓΟΣ",1998,"Ο.Α.ΑΘΗΝΩΝ",-1]
[26726,"ΜΠΟΥΓΑΣ ΠΑΝΑΓΙΩΤΗΣ",1998,"Α.Ο.ΑΡΓΥΡΟΥΠΟΛΗΣ",-7]
[26055,"ΣΙΡΠΟΣ ΑΛΕΞΙΟΣ",1998,"Ο.Α.ΘΕΣΣΑΛΟΝΙΚΗΣ",-18.5]
[24765,"ΛΑΖΑΡΙΔΗΣ ΚΥΡΙΑΚΟΣ",1998,"Ο.Α.ΘΕΣΣΑΛΟΝΙΚΗΣ",-18.7]
[29121,"ΣΑΡΤΖΕΤΑΚΗΣ ΘΕΟΔΩΡΟΣ",1998,"Α.Π.Ο.ΣΑΝΝΥ ΣΠΟΡΤΣ ΚΛΑΜΠ",-18.7]
[30019,"ΒΕΛΕΝΤΖΑΣ ΔΗΜΗΤΡΙΟΣ",1999,"Ν.Ο.ΘΕΣΣΑΛΟΝΙΚΗΣ",-19]
[31693,"ΕΣΚΙΟΓΛΟΥ ΣΤΕΦΑΝΟΣ",1999,"Α.Π.Ο.ΣΑΝΝΥ ΣΠΟΡΤΣ ΚΛΑΜΠ",-19]
[29435,"ΤΖΑΘΑΣ ΝΙΚΟΛΑΟΣ-ΣΩΤΗΡΗΣ",1999,"Ο.Α.ΚΑΙΣΑΡΙΑΝΗΣ",-19]
[28588,"ΑΓΓΕΛΟΠΟΥΛΟΣ ΜΙΛΤΙΑΔΗΣ",1999,"Α.Ο.Α.ΦΙΛΟΘΕΗΣ",-19.2]
[29789,"ΤΣΟΜΛΕΚΤΣΟΓΛΟΥ ΝΙΚΟΛΑΟΣ",1999,"Α.Ο.Α.ΦΙΛΟΘΕΗΣ",-19.2]
[29677,"ΨΑΡΑΥΤΗΣ ΝΙΚΟΛΑΟΣ",1999,"Σ.Φ.Α.ΜΕΛΙΣΣΙΩΝ Ο ΦΟΙΒΟΣ",-19.2]
[30188,"ΜΟΥΤΣΑΤΣΟΣ ΝΙΚΟΛΑΟΣ",1999,"Ο.Α.ΧΑΛΚΙΔΑΣ",-19.5]
[29077,"ΑΛΕΞΑΝΔΡΟΠΟΥΛΟΣ ΣΤΕΦΑΝΟΣ",1999,"Ο.Α.ΠΕΤΡΟΥΠΟΛΗΣ",-20]
[30523,"ΑΠΕΡΓΗΣ ΚΟΜΝΗΝΟΣ",1999,"Α.Ο.ΚΑΛΛΙΤΕΧΝΟΥΠΟΛΗΣ",-20]
[30901,"ΑΠΟΣΤΟΛΟΥ ΑΧΙΛΛΕΑΣ",1998,"Γ.Σ.ΕΛΕΥΘΕΡΙΟΥ ΚΟΡΔ.ΑΡΓΟΝΑΥΤΕΣ",-20]
[29451,"ΑΡΓΥΡΟΥΛΗΣ ΑΝΤΩΝΙΟΣ",1998,"Α.Σ.Ε.ΘΗΣΕΑΣ ΑΓΙΟΥ ΔΗΜΗΤΡΙΟΥ",-20]
[29931,"ΒΑΣΙΛΑΚΟΠΟΥΛΟΣ ΛΕΩΝΙΔΑΣ",1999,"Α.Ο.Α.ΦΙΛΟΘΕΗΣ",-20]
[27116,"ΒΙΤΑΛΗΣ ΠΕΤΡΟΣ",1998,"Α.Π.Ο.ΣΑΝΝΥ ΣΠΟΡΤΣ ΚΛΑΜΠ",-20]
[24018,"ΓΑΚΙΔΗΣ ΓΕΩΡΓΙΟΣ",1998,"Ο.Π.ΘΕΣΣΑΛΟΝΙΚΗΣ ΜΑΚΕΔΟΝΙΑ 92",-20]
[32470,"ΓΕΡΟΓΙΑΝΝΗΣ ΑΛΕΞΑΝΔΡΟΣ",1999,"Α.Ο.Α.ΧΑΪΔΑΡΙΟΥ",-20]
[31716,"ΓΚΟΓΚΙΔΗΣ ΑΛΕΞΑΝΔΡΟΣ",1999,"Μ.Α.Σ.ΑΕΤΟΣ ΘΕΣΣΑΛΟΝΙΚΗΣ",-20]
[32342,"ΚΑΛΙΕΝΤΖΙΔΗΣ ΧΡΗΣΤΟΣ",1998,"Ο.Π.ΘΕΣΣΑΛΟΝΙΚΗΣ ΜΑΚΕΔΟΝΙΑ 92",-20]
[27004,"ΚΑΡΑΓΙΑΝΝΗΣ ΔΗΜΗΤΡΙΟΣ",1998,"Ο.Α.ΙΩΛΚΟΣ ΒΟΛΟΥ",-20]
[29798,"ΚΕΔΙΚΟΓΛΟΥ ΠΑΝΑΓΙΩΤΗΣ",1999,"Ο.Α.ΩΡΑΙΟΚΑΣΤΡΟΥ Ο ΑΝΤΑΙΟΣ",-20]
[24171,"ΚΕΛΑΪΔΗΣ ΚΑΡΛΟΣ",1998,"Ο.Α.ΓΛΥΦΑΔΑΣ",-20]
[31362,"ΚΟΥΤΣΜΑΝΗΣ ΙΩΑΝΝΗΣ",1999,"Ν.Ο.ΘΕΣΣΑΛΟΝΙΚΗΣ",-20]
[26709,"ΛΙΟΔΑΚΗΣ ΑΡΙΣΤΕΙΔΗΣ",1999,"Ο.Α.ΣΟΥΔΑΣ",-20]
[29394,"ΜΕΓΑΛΟΟΙΚΟΝΟΜΟΥ ΝΙΚΟΛΑΟΣ",1998,"Γ.Σ.ΚΗΦΙΣΙΑΣ",-20]
[27475,"ΜΠΟΥΝΤΟΥΚΟΣ ΓΕΩΡΓΙΟΣ",1998,"Ο.Α.ΒΟΛΟΥ",-20]
[30139,"ΜΥΛΩΝΑΣ ΙΩΑΝΝΗΣ",1998,"Ε.Σ.Ο.ΕΠΙΚΟΥΡΟΣ ΠΟΛΙΧΝΗΣ",-20]
[25586,"ΝΙΚΟΛΟΠΟΥΛΟΣ ΦΙΛΙΠΠΟΣ-ΠΕΡΙΚΛΗΣ",1998,"Ο.Α.ΑΘΗΝΩΝ",-20]
[28787,"ΠΑΠΑΖΟΓΛΟΥ ΙΩΑΝΝΗΣ",1999,"Ο.Α.ΓΛΥΦΑΔΑΣ",-20]
[31152,"ΠΑΣΠΑΛΑΡΑΚΗΣ ΙΩΑΝΝΗΣ",1999,"Ο.Α.ΣΗΤΕΙΑΣ",-20]
[31995,"ΣΚΙΑΝΗΣ ΙΩΑΝΝΗΣ",1999,"Ο.Α.ΑΘΛΗΤΙΚΗ ΠΑΙΔΕΙΑ",-20]
[30608,"ΤΣΙΑΔΗΜΟΣ ΡΑΦΑΗΛ",1999,"Γ.Σ.ΕΛΕΥΘΕΡΙΟΥ ΚΟΡΔ.ΑΡΓΟΝΑΥΤΕΣ",-20]
[32863,"ΤΣΙΒΓΙΟΥΡΑΣ ΣΩΤΗΡΗΣ",1999,"Ο.Α.ΒΟΛΟΥ",-20]
[27772,"ΦΤΟΥΛΗΣ ΜΑΝΩΛΗΣ",1999,"Α.Σ.ΟΛΥΜΠΙΑΚΟΥ ΧΩΡΙΟΥ",-20]
[30788,"ΧΑΝΤΖΟΠΟΥΛΟΣ ΑΡΙΣΤΟΤΕΛΗΣ",1999,"ΠΕΥΚΗ-Γ.ΚΑΛΟΒΕΛΩΝΗΣ",-20]
[28020,"ΛΥΜΠΕΡΗΣ ΑΛΕΞΑΝΔΡΟΣ",1998,"Α.Ο.Α.ΦΙΛΟΘΕΗΣ",-23]
[26569,"ΘΕΟΔΩΡΙΔΗΣ ΝΙΚΟΛΑΟΣ",1999,"Σ.Φ.Α.ΜΕΛΙΣΣΙΩΝ Ο ΦΟΙΒΟΣ",-39.5]
[26705,"ΚΟΥΤΣΟΥΛΗΣ ΜΑΡΙΟΣ",1998,"Α.Ο.ΑΡΓΥΡΟΥΠΟΛΗΣ",-39.5]